BEGIN:VCALENDAR
VERSION:2.0
PRODID:-// - ECPv6.15.20//NONSGML v1.0//EN
CALSCALE:GREGORIAN
METHOD:PUBLISH
X-ORIGINAL-URL:https://valeriehoffmanphotography.com
X-WR-CALDESC:Events for 
REFRESH-INTERVAL;VALUE=DURATION:PT1H
X-Robots-Tag:noindex
X-PUBLISHED-TTL:PT1H
BEGIN:VTIMEZONE
TZID:America/New_York
BEGIN:DAYLIGHT
TZOFFSETFROM:-0500
TZOFFSETTO:-0400
TZNAME:EDT
DTSTART:20200308T070000
END:DAYLIGHT
BEGIN:STANDARD
TZOFFSETFROM:-0400
TZOFFSETTO:-0500
TZNAME:EST
DTSTART:20201101T060000
END:STANDARD
BEGIN:DAYLIGHT
TZOFFSETFROM:-0500
TZOFFSETTO:-0400
TZNAME:EDT
DTSTART:20210314T070000
END:DAYLIGHT
BEGIN:STANDARD
TZOFFSETFROM:-0400
TZOFFSETTO:-0500
TZNAME:EST
DTSTART:20211107T060000
END:STANDARD
BEGIN:DAYLIGHT
TZOFFSETFROM:-0500
TZOFFSETTO:-0400
TZNAME:EDT
DTSTART:20220313T070000
END:DAYLIGHT
BEGIN:STANDARD
TZOFFSETFROM:-0400
TZOFFSETTO:-0500
TZNAME:EST
DTSTART:20221106T060000
END:STANDARD
END:VTIMEZONE
BEGIN:VEVENT
DTSTART;TZID=America/New_York:20211107T090000
DTEND;TZID=America/New_York:20211107T130000
DTSTAMP:20260423T165039
CREATED:20210902T011614Z
LAST-MODIFIED:20210902T011955Z
UID:6700-1636275600-1636290000@valeriehoffmanphotography.com
SUMMARY:Airplane and Auto Graveyard
DESCRIPTION:For those that love the creative challenge and fun of capturing unique images of rusty things-this is the place for you! According to Jersey’s Best Magazine\, “this quirky junkyard is a part-picking’ paradise\, giving vintage machines new life as movie props. Scenes from the 80s hit movie Eddie and the Cruisers were filmed here\, although the remnants from the film have long since been buried. Planes and helicopters tower atop buses\, while old car carcasses rest among sprouting shrubs.” Aircraft are stacked throughout the 12 acre property\, including an amazing array of their pieces and parts.  \n\n\n\nJoin me as we photographically explore an airplane and automotive graveyard in the Pine Barrens area of New Jersey. In cooperation with Richard Lewis Photography\, our group will have the place all to ourselves! We will begin the adventure with a Zoom presentation from Richard\, with photos and info to get you excited and ready to go. When we arrive\, we will be taken on a tour throughout the grounds\, so you know where all the cool stuff is. You will also have a map to help you find your way around. Instruction will be provided before and throughout the trek on how to best compose creative compositions out of the chaos. Tips on exposure\, focusing\, lens choice\, and creative options such as shooting artistic HDR images will be given. You can use any gear you have. Lenses in the range of super wide-angle to 200mm-even macro lenses will work great here. There are so many colors\, shapes\, and textures to play with-you will be amazed! \n\n\n\nThe workshop fee covers your entrance fee\, the pre-trek class\, hands-on instruction during the workshop and a post processing workshop that will take place via Zoom soon after the event. All participants will be invited to a private Facebook group for workshop attendees to share images and stories. \n\n\n\nLiability releases will need to be signed by all participants before entering the grounds. They will be sent to you\, along with the address and all the details for the event after registration. \n\n\n\nThe workshop will run from 9am to 1pm and is rain or shine-unless it is unsafe to be out. \n\n\n\nAlso\, for an added bonus-we will also be photographing the day before at another undisclosed auto salvage yard. See post for November 6th for more details. Join us for a full weekend of abandoned and more! \n\n\n\nSee special COVID terms and conditions
URL:https://valeriehoffmanphotography.com/trek/airplane-and-auto-graveyard/
CATEGORIES:Workshop
ATTACH;FMTTYPE=image/jpeg:https://valeriehoffmanphotography.com/wp-content/uploads/2021/01/P9121439_40_41-1.jpg
END:VEVENT
END:VCALENDAR