BEGIN:VCALENDAR
VERSION:2.0
PRODID:-// - ECPv6.15.20//NONSGML v1.0//EN
CALSCALE:GREGORIAN
METHOD:PUBLISH
X-ORIGINAL-URL:https://valeriehoffmanphotography.com
X-WR-CALDESC:Events for 
REFRESH-INTERVAL;VALUE=DURATION:PT1H
X-Robots-Tag:noindex
X-PUBLISHED-TTL:PT1H
BEGIN:VTIMEZONE
TZID:America/New_York
BEGIN:DAYLIGHT
TZOFFSETFROM:-0500
TZOFFSETTO:-0400
TZNAME:EDT
DTSTART:20200308T070000
END:DAYLIGHT
BEGIN:STANDARD
TZOFFSETFROM:-0400
TZOFFSETTO:-0500
TZNAME:EST
DTSTART:20201101T060000
END:STANDARD
BEGIN:DAYLIGHT
TZOFFSETFROM:-0500
TZOFFSETTO:-0400
TZNAME:EDT
DTSTART:20210314T070000
END:DAYLIGHT
BEGIN:STANDARD
TZOFFSETFROM:-0400
TZOFFSETTO:-0500
TZNAME:EST
DTSTART:20211107T060000
END:STANDARD
BEGIN:DAYLIGHT
TZOFFSETFROM:-0500
TZOFFSETTO:-0400
TZNAME:EDT
DTSTART:20220313T070000
END:DAYLIGHT
BEGIN:STANDARD
TZOFFSETFROM:-0400
TZOFFSETTO:-0500
TZNAME:EST
DTSTART:20221106T060000
END:STANDARD
END:VTIMEZONE
BEGIN:VEVENT
DTSTART;TZID=America/New_York:20210827T160000
DTEND;TZID=America/New_York:20210827T200000
DTSTAMP:20260423T195323
CREATED:20210423T012527Z
LAST-MODIFIED:20210812T212340Z
UID:6691-1630080000-1630094400@valeriehoffmanphotography.com
SUMMARY:Chanticleer Gardens Photo Walk
DESCRIPTION:Within 30 minutes of Philadelphia\, Chanticleer is one of the great gardens of the region. Chanticleer has been called the most romantic\, imaginative\, and exciting public garden in America. The garden is a study of textures and forms\, where foliage trumps flowers\, and even the drinking fountains are sculptural. The Chanticleer Foundation owns 47 acres\, 35 of which are open to the public. \n\n\n\nJoin us as we spend the early evening hours exploring the gardens and making beautiful images in new and creative ways. We will work with a variety of lenses and focal lengths to fully explore how to capture the grand landscape as well as the intricate details of the gardens. Bring whatever lenses you have and learn how to use them to their fullest creative capability. Instruction will be given on how to work with fill flash\, reflectors and diffusers to creatively control the light. We will also discuss the use of filters to enhance and saturate colors\, and a few other creative techniques along the way. Detailed instructions will be given on how to best compose your images for the greatest visual impact. There will also be plenty of instruction on which aperture and shutter speed combinations to use to best convey the mood of the scene. A lens hood and circular polarizer are highly recommended for each lens\, as well as a tripod\, cable release and plenty of memory cards. Workshop is for beginners as well as more advanced enthusiasts. Specific details will be emailed upon registration. \n\n\n\nA minimum number of participants is needed to run this workshop. Group will be kept small to allow for greater individual assistance. A detailed email will be sent out 7-10 days prior to the workshop to help you prepare. A pre-trek class via Zoom to go over details and shooting tips and techniques will also be held prior to the event. The Zoom class will be held Tuesday August 24th\, from 7 to approximately 8pm. The class will be recorded and available to those who are unable to make that time \n\n\n\nFee includes the class and all instruction during the event\, admission to the gardens as well as admission to a private Facebook group where you will be able to get ongoing support for your photographic learning\, as part of a great community of photo enthusiasts! \n\n\n\nChanticleer is located at 786 Church Rd\, Wayne\, PA 19087
URL:https://valeriehoffmanphotography.com/trek/chanticleer-gardens-photo-walk/
CATEGORIES:Trek
ATTACH;FMTTYPE=image/jpeg:https://valeriehoffmanphotography.com/wp-content/uploads/2020/09/IMG_0221.jpg
END:VEVENT
END:VCALENDAR