BEGIN:VCALENDAR
VERSION:2.0
PRODID:-// - ECPv6.15.20//NONSGML v1.0//EN
CALSCALE:GREGORIAN
METHOD:PUBLISH
X-ORIGINAL-URL:https://valeriehoffmanphotography.com
X-WR-CALDESC:Events for 
REFRESH-INTERVAL;VALUE=DURATION:PT1H
X-Robots-Tag:noindex
X-PUBLISHED-TTL:PT1H
BEGIN:VTIMEZONE
TZID:America/New_York
BEGIN:DAYLIGHT
TZOFFSETFROM:-0500
TZOFFSETTO:-0400
TZNAME:EDT
DTSTART:20240310T070000
END:DAYLIGHT
BEGIN:STANDARD
TZOFFSETFROM:-0400
TZOFFSETTO:-0500
TZNAME:EST
DTSTART:20241103T060000
END:STANDARD
BEGIN:DAYLIGHT
TZOFFSETFROM:-0500
TZOFFSETTO:-0400
TZNAME:EDT
DTSTART:20250309T070000
END:DAYLIGHT
BEGIN:STANDARD
TZOFFSETFROM:-0400
TZOFFSETTO:-0500
TZNAME:EST
DTSTART:20251102T060000
END:STANDARD
BEGIN:DAYLIGHT
TZOFFSETFROM:-0500
TZOFFSETTO:-0400
TZNAME:EDT
DTSTART:20260308T070000
END:DAYLIGHT
BEGIN:STANDARD
TZOFFSETFROM:-0400
TZOFFSETTO:-0500
TZNAME:EST
DTSTART:20261101T060000
END:STANDARD
END:VTIMEZONE
BEGIN:VEVENT
DTSTART;TZID=America/New_York:20250725T183000
DTEND;TZID=America/New_York:20250725T213000
DTSTAMP:20260423T202552
CREATED:20250707T180044Z
LAST-MODIFIED:20250725T190009Z
UID:10384-1753468200-1753479000@valeriehoffmanphotography.com
SUMMARY:Photo Walk at the Kimberton Fair
DESCRIPTION:  \nJoin us for an evening of summer fun at the Kimberton Fair\, in Kimberton\, PA (near Phoenixville). \nAs the sun goes down\, the amusement ride lights will begin to glow – and that’s when the photographic fun begins! You will learn the art of nightscape photography using the “blue hour” as a beautiful backdrop for the amusement rides and vendor stands. Then\, as we begin using longer exposures\, you will see a kaleidoscope of shapes and patterns appear before your eyes! We will move around the grounds capturing the amazing play of light till it is time for the fireworks display- at which time we will be already set up in the best spot to now add the fireworks to our amusement ride light painting fun. \nThis photo walk is for beginners as well as more advanced enthusiasts. We will teach you the settings and techniques you need to capture amazing images! A DSLR or mirrorless camera with a wide angle zoom lens\, sturdy tripod\, cable release\, and a small flash light are all you’ll need! \nThe is a weather-permitting event. In case of inclement weather\, we will move the workshop to the following evening\, Saturday July 26th\, same time. (Note: the event planners have the final say on when fireworks will be shot off.) \nMore details will be given prior to the event via email. We will also have a pre-event zoom session to go through some shooting details on composition\, exposure\, technique\, etc to help you get ready for the event. Join us for a fun night of creative photography! \nPlease Note: amusement rides vary from year to year. We may not have the same rides as pictured below. \nRegister using CASH app or VENMO and save $5! Simply email me at: Valerie@ValerieHoffmanPhotography.com (or use website contact form\, and I’ll send you the info!)
URL:https://valeriehoffmanphotography.com/trek/fun-photo-walk-at-the-kimberton-fair/
CATEGORIES:Photo Walk
ATTACH;FMTTYPE=image/jpeg:https://valeriehoffmanphotography.com/wp-content/uploads/2025/07/IMG_2317.jpg
END:VEVENT
END:VCALENDAR