BEGIN:VCALENDAR
VERSION:2.0
PRODID:-// - ECPv6.15.20//NONSGML v1.0//EN
CALSCALE:GREGORIAN
METHOD:PUBLISH
X-ORIGINAL-URL:https://valeriehoffmanphotography.com
X-WR-CALDESC:Events for 
REFRESH-INTERVAL;VALUE=DURATION:PT1H
X-Robots-Tag:noindex
X-PUBLISHED-TTL:PT1H
BEGIN:VTIMEZONE
TZID:America/New_York
BEGIN:DAYLIGHT
TZOFFSETFROM:-0500
TZOFFSETTO:-0400
TZNAME:EDT
DTSTART:20210314T070000
END:DAYLIGHT
BEGIN:STANDARD
TZOFFSETFROM:-0400
TZOFFSETTO:-0500
TZNAME:EST
DTSTART:20211107T060000
END:STANDARD
BEGIN:DAYLIGHT
TZOFFSETFROM:-0500
TZOFFSETTO:-0400
TZNAME:EDT
DTSTART:20220313T070000
END:DAYLIGHT
BEGIN:STANDARD
TZOFFSETFROM:-0400
TZOFFSETTO:-0500
TZNAME:EST
DTSTART:20221106T060000
END:STANDARD
BEGIN:DAYLIGHT
TZOFFSETFROM:-0500
TZOFFSETTO:-0400
TZNAME:EDT
DTSTART:20230312T070000
END:DAYLIGHT
BEGIN:STANDARD
TZOFFSETFROM:-0400
TZOFFSETTO:-0500
TZNAME:EST
DTSTART:20231105T060000
END:STANDARD
END:VTIMEZONE
BEGIN:VEVENT
DTSTART;TZID=America/New_York:20220625T093000
DTEND;TZID=America/New_York:20220625T133000
DTSTAMP:20260424T003819
CREATED:20220207T195445Z
LAST-MODIFIED:20220512T015252Z
UID:7542-1656149400-1656163800@valeriehoffmanphotography.com
SUMMARY:Gruber Wagon Works Photo Trek
DESCRIPTION:The Gruber Wagon Works survives as one of the most complete examples of an integrated rural manufactory of its kind in the nation. Erected in 1882 by Franklin H. Gruber\, the wagon works evolved from a single craftsman shop\, having a variety of specialized hand tools\, into a family-operated business which employed up to 20 men who utilized mass-production methods. Unlike a modern assembly process\, wagon parts were transported back and forth between various rooms in order to complete a segment of the work. \nWagon wheels were constructed in the bench shop\, and wooden parts of the wagon were made from patterns in the wood shop. Wheels were “tired” and wagons were “ironed” and assembled in the blacksmith shop. The distinctive striping and scrollwork were applied by hand in the paint shop. \nDuring the winter of 1976-77\, the Gruber Wagon Works was moved by the Army Corps of Engineers from its original location near Mt. Pleasant. In 1978\, the Gruber Wagon Works was designated as a National Historical Landmark by the United States Government\, commemorating its historic significance as an industry from a bygone era of American craftsman. \nJoin us for a fantastic photography workshop in this amazing place! We will have private access to the Wagon Works for 4 hours! Come early and explore the other buildings which make up the Berks Heritage Center. This includes the Wertz’s Covered Bridge\, a hidden cemetery with 100 year old tombstones\, the very colorful Der Distelfink statue and more! \nYou’ll have fun photographing and exploring two full floors of vintage wagons and all the tools and textiles that went along with working on them. There is a great collection of vintage wheels\, tools\, paint cans\, work benches and much more! You’ll learn to create more compelling compositions\, work with contrasty light\, use exposure bracketing to create a series of images that can later be merged into HDR or Hi Dynamic Range images. Some models offer this feature in-camera \, so we can work on gaining a better understanding of that feature\, as well. This is a great opportunity to learn in a fun and friendly environment! \nTicket fee includes a pre-trek Zoom class\, private access to the Wagon Works\, instruction throughout the workshop\, follow up and access to our private Facebook group. \nWorkshop is great for all levels of photo enthusiasts! An email will be sent prior to the event with details on the pre-trek Zoom class\, what to bring and what to expect. This is a smaller venue\, so registration will be kept to a smaller number. So don’t wait-register today!
URL:https://valeriehoffmanphotography.com/trek/gruber-wagon-works-photo-trek/
CATEGORIES:Trek
ATTACH;FMTTYPE=image/jpeg:https://valeriehoffmanphotography.com/wp-content/uploads/2022/02/IMG_8215_tonemapped.jpg
END:VEVENT
END:VCALENDAR