BEGIN:VCALENDAR
VERSION:2.0
PRODID:-// - ECPv6.15.20//NONSGML v1.0//EN
CALSCALE:GREGORIAN
METHOD:PUBLISH
X-ORIGINAL-URL:https://valeriehoffmanphotography.com
X-WR-CALDESC:Events for 
REFRESH-INTERVAL;VALUE=DURATION:PT1H
X-Robots-Tag:noindex
X-PUBLISHED-TTL:PT1H
BEGIN:VTIMEZONE
TZID:America/New_York
BEGIN:DAYLIGHT
TZOFFSETFROM:-0500
TZOFFSETTO:-0400
TZNAME:EDT
DTSTART:20230312T070000
END:DAYLIGHT
BEGIN:STANDARD
TZOFFSETFROM:-0400
TZOFFSETTO:-0500
TZNAME:EST
DTSTART:20231105T060000
END:STANDARD
BEGIN:DAYLIGHT
TZOFFSETFROM:-0500
TZOFFSETTO:-0400
TZNAME:EDT
DTSTART:20240310T070000
END:DAYLIGHT
BEGIN:STANDARD
TZOFFSETFROM:-0400
TZOFFSETTO:-0500
TZNAME:EST
DTSTART:20241103T060000
END:STANDARD
BEGIN:DAYLIGHT
TZOFFSETFROM:-0500
TZOFFSETTO:-0400
TZNAME:EDT
DTSTART:20250309T070000
END:DAYLIGHT
BEGIN:STANDARD
TZOFFSETFROM:-0400
TZOFFSETTO:-0500
TZNAME:EST
DTSTART:20251102T060000
END:STANDARD
END:VTIMEZONE
BEGIN:VEVENT
DTSTART;TZID=America/New_York:20240921T100000
DTEND;TZID=America/New_York:20240921T130000
DTSTAMP:20260423T202849
CREATED:20240904T014718Z
LAST-MODIFIED:20240912T201206Z
UID:11470-1726912800-1726923600@valeriehoffmanphotography.com
SUMMARY:Historic Bowmansville Roller Mill Photo workshop
DESCRIPTION:In the 1700 and 1800s\, Lancaster County was an important milling center due to the availability of water power along our many streams. The Bowmansville Roller Mill is an important example of this industry. It provided the farmers in this area with both animal feed and flour. It is the last remaining example of a combination of grist and sawmills in Brecknock Township. Machinery from the 1850 grist mill and the 1888 roller mill are fully intact. It is the only known mill in the area to have both still. \nThe mill contains examples of three centuries of milling techniques: the millstones\, the roller mills\, and the sawmill. There are four sets of millstones. These stones were used for corn and wheat. \nThe Bowmansville Roller Mill was both a custom and a commercial mill. Some of the farmers had their grain milled and returned to them. However\, other loads of grain were purchased by the Von Niedas\, milled\, and bagged. These large bags of flour or feed were then bought by farmers and other people in the area as needed. When the water level in the millrace was high and the harvest was plentiful\, the mill ran almost continuously. During the three or four months of harvest\, the farmers brought their grain to the mill by the wagon load. There the grain was loaded into barrels and lifted by pulley to the assigned compartment\, or storage bin\, on the upper levels of the mill. Several days later\, the farmers returned to the mill for their grain. \nThe Bowmansville Roller Mill was placed on the National Register of Historic Places in 1987\, which recognized the preservation efforts of former owner Stewart Kean\, who restored the mill with local men. (information taken from Historic Preservation Trust of Lancaster County article) \nJoin me as part of the first ever photography workshop at the mill! You will love the images you create as you photographically explore all four floors of this gorgeous mill. There will be a zoom session on Wednesday September 18th to go through all important details of the event. Instruction will be given on creative composition\, exposure settings and how to handle high dynamic range lighting. We will also use artificial lighting where needed to open up shadows and control contrast in your scene. \nAn informational email will be sent about a week prior to the on location workshop with gear suggestions\, and all other details for the event. A participant image review will follow via zoom the following week. Registration includes entrance to the mill\, both zoom sessions\, and hands-on instruction throughout our time at the mill. \n 
URL:https://valeriehoffmanphotography.com/trek/historic-bowmansville-roller-mill-photo-workshop/
CATEGORIES:Trek,Workshop
ATTACH;FMTTYPE=image/jpeg:https://valeriehoffmanphotography.com/wp-content/uploads/2024/09/4284188.jpg
END:VEVENT
END:VCALENDAR