BEGIN:VCALENDAR
VERSION:2.0
PRODID:-// - ECPv6.15.20//NONSGML v1.0//EN
CALSCALE:GREGORIAN
METHOD:PUBLISH
X-ORIGINAL-URL:https://valeriehoffmanphotography.com
X-WR-CALDESC:Events for 
REFRESH-INTERVAL;VALUE=DURATION:PT1H
X-Robots-Tag:noindex
X-PUBLISHED-TTL:PT1H
BEGIN:VTIMEZONE
TZID:America/New_York
BEGIN:DAYLIGHT
TZOFFSETFROM:-0500
TZOFFSETTO:-0400
TZNAME:EDT
DTSTART:20220313T070000
END:DAYLIGHT
BEGIN:STANDARD
TZOFFSETFROM:-0400
TZOFFSETTO:-0500
TZNAME:EST
DTSTART:20221106T060000
END:STANDARD
BEGIN:DAYLIGHT
TZOFFSETFROM:-0500
TZOFFSETTO:-0400
TZNAME:EDT
DTSTART:20230312T070000
END:DAYLIGHT
BEGIN:STANDARD
TZOFFSETFROM:-0400
TZOFFSETTO:-0500
TZNAME:EST
DTSTART:20231105T060000
END:STANDARD
BEGIN:DAYLIGHT
TZOFFSETFROM:-0500
TZOFFSETTO:-0400
TZNAME:EDT
DTSTART:20240310T070000
END:DAYLIGHT
BEGIN:STANDARD
TZOFFSETFROM:-0400
TZOFFSETTO:-0500
TZNAME:EST
DTSTART:20241103T060000
END:STANDARD
END:VTIMEZONE
BEGIN:VEVENT
DTSTART;TZID=America/New_York:20230418T190000
DTEND;TZID=America/New_York:20230418T200000
DTSTAMP:20260423T233931
CREATED:20230412T172425Z
LAST-MODIFIED:20230412T172425Z
UID:10014-1681844400-1681848000@valeriehoffmanphotography.com
SUMMARY:Intro To Night Sky Photography
DESCRIPTION:On our next Tuesdays together session\, we will discuss some of the most common things to photograph in the night skies. \nWe’ll talk about moon phases and best practices to get great shots. We will also discuss photographing stars\, star trails and the Milky Way-as the MW Core is now visible again in the early morning sky. \nJoin us as we discuss what gear you will need (you can get started with just about anything)\, when to shoot\, what settings to use\, useful apps for planning and more! \nOnly $10! Don’t miss it! \nIf you are unable to join us on Tuesday night\, you can still register and I’ll send a copy of the recording and any notes created\, so you can go through the info on your own.
URL:https://valeriehoffmanphotography.com/trek/intro-to-night-sky-photography/
CATEGORIES:Tuesdays Together Class Series
ATTACH;FMTTYPE=image/jpeg:https://valeriehoffmanphotography.com/wp-content/uploads/2023/03/StarStaX_P4300213-P4300248_gap_filling.jpg
END:VEVENT
END:VCALENDAR