BEGIN:VCALENDAR
VERSION:2.0
PRODID:-// - ECPv6.15.20//NONSGML v1.0//EN
CALSCALE:GREGORIAN
METHOD:PUBLISH
X-ORIGINAL-URL:https://valeriehoffmanphotography.com
X-WR-CALDESC:Events for 
REFRESH-INTERVAL;VALUE=DURATION:PT1H
X-Robots-Tag:noindex
X-PUBLISHED-TTL:PT1H
BEGIN:VTIMEZONE
TZID:America/New_York
BEGIN:DAYLIGHT
TZOFFSETFROM:-0500
TZOFFSETTO:-0400
TZNAME:EDT
DTSTART:20200308T070000
END:DAYLIGHT
BEGIN:STANDARD
TZOFFSETFROM:-0400
TZOFFSETTO:-0500
TZNAME:EST
DTSTART:20201101T060000
END:STANDARD
BEGIN:DAYLIGHT
TZOFFSETFROM:-0500
TZOFFSETTO:-0400
TZNAME:EDT
DTSTART:20210314T070000
END:DAYLIGHT
BEGIN:STANDARD
TZOFFSETFROM:-0400
TZOFFSETTO:-0500
TZNAME:EST
DTSTART:20211107T060000
END:STANDARD
BEGIN:DAYLIGHT
TZOFFSETFROM:-0500
TZOFFSETTO:-0400
TZNAME:EDT
DTSTART:20220313T070000
END:DAYLIGHT
BEGIN:STANDARD
TZOFFSETFROM:-0400
TZOFFSETTO:-0500
TZNAME:EST
DTSTART:20221106T060000
END:STANDARD
END:VTIMEZONE
BEGIN:VEVENT
DTSTART;TZID=America/New_York:20210320T100000
DTEND;TZID=America/New_York:20210320T133000
DTSTAMP:20260424T041233
CREATED:20210226T232243Z
LAST-MODIFIED:20210226T233022Z
UID:6452-1616234400-1616247000@valeriehoffmanphotography.com
SUMMARY:Landscape Photography Photo Trek
DESCRIPTION:Usually at this time of year\, we have a great macro photography event at Longwood Gardens during their annual Orchid Extravaganza. This year the Orchid Event did not take place for a variety of reasons due to the on-going pandemic. In addition\, the new “No Tripods Indoors COVID Policy” would make a macro photography event that much more challenging-if not impossible. BUT\, I’m really tired of the cold\, gray days of winter\, and am ready to focus on spring! I know many of you are right there with me\, so… we’re mixing it up a little. Instead of focusing on the intimate tiny details of flowers\, we will instead focus on the bigger picture-the amazing overall beauty of the gardens\, capturing the grand landscape. INDOORS. In the warmth\, surrounded by the beauty of spring flowers.  \n\n\n\nInstruction will be given on how to best capture beautiful images that include drama and depth. We will discuss the impact aperture choice and depth of field have on your images\, how and where to focus within the scene\, creative composition\, controlling exposure-especially in harsh lighting situations\, using filters for greater impact and color depth\, and so much more. You won’t want to miss this new opportunity! \n\n\n\nDue to COVID policies and out of an abundance of caution\, the number of participants will be limited. Also\, in order to help facilitate the learning process while social distancing\, there will be a pre-trek class held on Zoom\, approximately one week prior to the event. During the class we will go through recommended gear and how to properly use it to enhance your images. We will also review a variety of images to help inspire and get your creative juices flowing\, while teaching important techniques on lens choice\, composition\, exposure\, depth of field and more. Several creative techniques will also be demonstrated\, such as creating great bokeh backgrounds\, in camera multiple exposures\, zoom bursts\, shoot-thrus\, exposure bracketing\, and more-all without the use of a tripod! This class will be recorded and available to if class date does not coincide with your schedule. \n\n\n\nThis trek will be great for beginners as well as more advanced photo enthusiasts. A prior understanding of your camera will be helpful\, as this will not be a specific lesson on any one camera but on appropriate settings which all cameras that are able to be set manually will have. \n\n\n\nSince having Timed Tickets IN ADVANCE is the only way to gain access to the gardens\, and due to the limited amount of spots available on this workshop\, it is highly recommended that you sign up as soon as possible in order to get your ticket at the time the group will be entering\, and to reserve your spot.
URL:https://valeriehoffmanphotography.com/trek/landscape-photography-photo-trek/
LOCATION:Longwood Gardens\, 1001 Longwood Rd\, Kennett Square\, PA\, 19348\, United States
CATEGORIES:Trek
ATTACH;FMTTYPE=image/jpeg:https://valeriehoffmanphotography.com/wp-content/uploads/2021/02/674A1390.jpg
END:VEVENT
END:VCALENDAR