BEGIN:VCALENDAR
VERSION:2.0
PRODID:-// - ECPv6.15.20//NONSGML v1.0//EN
CALSCALE:GREGORIAN
METHOD:PUBLISH
X-ORIGINAL-URL:https://valeriehoffmanphotography.com
X-WR-CALDESC:Events for 
REFRESH-INTERVAL;VALUE=DURATION:PT1H
X-Robots-Tag:noindex
X-PUBLISHED-TTL:PT1H
BEGIN:VTIMEZONE
TZID:America/New_York
BEGIN:DAYLIGHT
TZOFFSETFROM:-0500
TZOFFSETTO:-0400
TZNAME:EDT
DTSTART:20220313T070000
END:DAYLIGHT
BEGIN:STANDARD
TZOFFSETFROM:-0400
TZOFFSETTO:-0500
TZNAME:EST
DTSTART:20221106T060000
END:STANDARD
BEGIN:DAYLIGHT
TZOFFSETFROM:-0500
TZOFFSETTO:-0400
TZNAME:EDT
DTSTART:20230312T070000
END:DAYLIGHT
BEGIN:STANDARD
TZOFFSETFROM:-0400
TZOFFSETTO:-0500
TZNAME:EST
DTSTART:20231105T060000
END:STANDARD
BEGIN:DAYLIGHT
TZOFFSETFROM:-0500
TZOFFSETTO:-0400
TZNAME:EDT
DTSTART:20240310T070000
END:DAYLIGHT
BEGIN:STANDARD
TZOFFSETFROM:-0400
TZOFFSETTO:-0500
TZNAME:EST
DTSTART:20241103T060000
END:STANDARD
END:VTIMEZONE
BEGIN:VEVENT
DTSTART;TZID=America/New_York:20231219T160000
DTEND;TZID=America/New_York:20231219T200000
DTSTAMP:20260423T203133
CREATED:20231127T171541Z
LAST-MODIFIED:20231129T025553Z
UID:10654-1703001600-1703016000@valeriehoffmanphotography.com
SUMMARY:A Longwood Christmas Photo Trek
DESCRIPTION:Longwood Gardens is spectacular in any season\, but it is transformed into a magical place during the holiday season. With more than 400\,000 twinkling lights strung on nearly 40 miles of wire\, this is a photographer’s paradise\, and it has become an annual photo trek favorite. Join us as we make amazing images worthy of creating your own holiday cards and gifts! \nWe will meet at 4pm to ensure we are inside before the worst of the evening traffic\, and to be set up and in place as the sun sets and the magic begins. We will continue photographing during the “Blue Hour”\, which allows for more dramatic images. We will photograph the amazing light displays outside throughout the grounds\, until the need for hot chocolate takes over. We will then take a short break indoors to warm back up\, let our cameras begin acclimating to the warmer indoor temperatures\, review our images\, then head over to the conservatory to capture the beauty and glow on the inside-IF the crowds are not unbearable. If it is mobbed\, we will continue to photograph outside. \nThis workshop is for beginners and more advanced photo enthusiasts. No special gear is required beyond a DSLR\, camera strap and tripod(for outside). A Star filter would be helpful for creative affects of the lights. Fast Lenses\, with apertures such as f/2.8 or 1.8 will be a huge benefit in the conservatory\, and to create those beautiful Bokeh light effects.. \nA pre-trek class will be held via Zoom to go over all the details.Instruction will be given on shooting in full manual exposure\, how to properly meter and photograph in low light-both outdoors and indoors\, lens choice and why it matters; creative composition; HDR or High Dynamic Range Photography; and more! A detailed email will be sent prior to the Zoom session detailing everything you need to get ready. A post-trek image review also via Zoom is included in the registration cost. \nThis event is being scheduled on a week night to avoid the large weekend crowds. You should plan on arriving at least one half hour prior to workshop start time to allow for traffic and parking. Please plan your schedules accordingly. \nAdmission to Longwood is NOT included\, as most attendees either are-or choose to become members of the gardens. Upon registration you should immediately go online and reserve a timed ticket. \nA minimum number of participants is needed to run this event. The number of tickets shown on website does not necessarily reflect the number still available\, as some participants choose to pay using Venmo or Cash app as opposed to PayPal. \nIn case of hazardous weather\, the trek will take place on Wednesday December 20th\, 2023. The workshop will take place in light rain or snow\, as these are fantastic conditions for photographing holiday lights. \nPlease note: the images below were taken over several different years and visits to Longwood. These are all past displays and do not represent what the current displays will look like.
URL:https://valeriehoffmanphotography.com/trek/longwood-christmas-photo-trek-2/
CATEGORIES:Trek
ATTACH;FMTTYPE=image/jpeg:https://valeriehoffmanphotography.com/wp-content/uploads/2022/11/674A3911.jpg
END:VEVENT
END:VCALENDAR