BEGIN:VCALENDAR
VERSION:2.0
PRODID:-// - ECPv6.15.20//NONSGML v1.0//EN
CALSCALE:GREGORIAN
METHOD:PUBLISH
X-ORIGINAL-URL:https://valeriehoffmanphotography.com
X-WR-CALDESC:Events for 
REFRESH-INTERVAL;VALUE=DURATION:PT1H
X-Robots-Tag:noindex
X-PUBLISHED-TTL:PT1H
BEGIN:VTIMEZONE
TZID:America/New_York
BEGIN:DAYLIGHT
TZOFFSETFROM:-0500
TZOFFSETTO:-0400
TZNAME:EDT
DTSTART:20220313T070000
END:DAYLIGHT
BEGIN:STANDARD
TZOFFSETFROM:-0400
TZOFFSETTO:-0500
TZNAME:EST
DTSTART:20221106T060000
END:STANDARD
BEGIN:DAYLIGHT
TZOFFSETFROM:-0500
TZOFFSETTO:-0400
TZNAME:EDT
DTSTART:20230312T070000
END:DAYLIGHT
BEGIN:STANDARD
TZOFFSETFROM:-0400
TZOFFSETTO:-0500
TZNAME:EST
DTSTART:20231105T060000
END:STANDARD
BEGIN:DAYLIGHT
TZOFFSETFROM:-0500
TZOFFSETTO:-0400
TZNAME:EDT
DTSTART:20240310T070000
END:DAYLIGHT
BEGIN:STANDARD
TZOFFSETFROM:-0400
TZOFFSETTO:-0500
TZNAME:EST
DTSTART:20241103T060000
END:STANDARD
END:VTIMEZONE
BEGIN:VEVENT
DTSTART;TZID=America/New_York:20230915T160000
DTEND;TZID=America/New_York:20230917T120000
DTSTAMP:20260423T203047
CREATED:20230304T020134Z
LAST-MODIFIED:20230510T235014Z
UID:9806-1694793600-1694952000@valeriehoffmanphotography.com
SUMMARY:NJ Night Skies Weekend Adventure Trek - NEW DATE_Round 3!
DESCRIPTION:  \nHave you ever looked up at the night sky\, and wished you could capture stunning images of the stars? \nAstro photography is a fascinating and fun photographic venture. But it can also be extremely challenging. Knowing where to go and when\, what gear to bring\, and being able to see\, focus\, and change camera settings in the dark can be intimidating and frustrating to a beginner. But\, capturing great images of the night skies is easier than you think! You just need a few key pieces of gear\, and a good understanding of some basic camera settings\, and you are off to discovering a whole new world! \nJoin us for our first-ever Night Skies photography workshop in South Jersey\, where we plan on photographing the stars\, star trails and Milky Way above 3 different lighthouses and a WW1 military bunker! (plans are subject to change). We will be fully immersed in shooting and editing images from Friday night until Sunday afternoon! (with maybe a little time off to sleep:) \nThe workshop begins on Friday September 15th at 4pm\, but there will be a pre-trek class being held via Zoom on Wednesday September 6th(new date) at 6:30pm. During the class we will review everything you need to know to come away with great images\, including what gear to bring\, what settings to use for a variety of shooting scenarios\, where we’ll go\, what we’ll see\, how to edit images for best results and more! \nWe can work with whatever gear you have\, but\, a camera that can be set fully manually (both exposure and focus) and handles noise well\, a sturdy tripod and a fast wide angle lens will give the best results. Your camera needs to have the ability to shoot at an ISO as high as 6400 or higher for best results \nThere will be hands-on\, detailed instruction given throughout the event\, but photographer’s should come with a good understanding of how to use their own camera\, and be able to change aperture\, shutter speeds\, ISO and focus without struggle. Although we will make as many settings as we can before heading out\, the majority of the time you will be operating your gear in the dark(with the help of a faint flashlight\, and you should be comfortable doing so. You should also be comfortable with being out -with the group\, for up to 4 hours or more in the dark\, potentially in chilly weather. This date was chosen to coincide with a New Moon\, so the moon’s brightness will not adversely affect the visibility of the stars. Timing was also chosen to capture the Milky Way in its early phase\, low to the horizon. Note\, the Milky Way Core-which is the brightest part of the MW\, does not rise until after 2am.🥺 \nWe will be out photographing as long as the conditions are suitable and the group has energy\, then return to our hotel for much needed rest. We will sleep in and rest until at least lunchtime\, and are not currently planning on photographing any sunrises-unless we are still out:) We will try our best to capture sunset on both Friday and Saturday night. \nHotel suggestions will be given upon registration. Hotel and meals are not included in the cost of the workshop. We are planning on carpooling together to locations. Passengers should come prepared to share gas expenses with their driver. \nWe will still be out shooting even if it is cloudy\, but will reschedule if high threat of rain. \nSpace is limited\, and will likely sell out. If you are interested in joining us\, don’t wait to register! A detailed informational email will be sent upon registration to help you prepare. Register ASAP to get group pricing on hotel rooms. \nNote: This event was rescheduled from past dates due to bad weather. Only 3 spots remain!!!
URL:https://valeriehoffmanphotography.com/trek/nj-night-skies-weekend-adventure-trek/
CATEGORIES:Trek,Workshop
ATTACH;FMTTYPE=image/jpeg:https://valeriehoffmanphotography.com/wp-content/uploads/2023/03/P4290169.jpg
END:VEVENT
END:VCALENDAR