BEGIN:VCALENDAR
VERSION:2.0
PRODID:-// - ECPv6.15.20//NONSGML v1.0//EN
CALSCALE:GREGORIAN
METHOD:PUBLISH
X-ORIGINAL-URL:https://valeriehoffmanphotography.com
X-WR-CALDESC:Events for 
REFRESH-INTERVAL;VALUE=DURATION:PT1H
X-Robots-Tag:noindex
X-PUBLISHED-TTL:PT1H
BEGIN:VTIMEZONE
TZID:America/New_York
BEGIN:DAYLIGHT
TZOFFSETFROM:-0500
TZOFFSETTO:-0400
TZNAME:EDT
DTSTART:20240310T070000
END:DAYLIGHT
BEGIN:STANDARD
TZOFFSETFROM:-0400
TZOFFSETTO:-0500
TZNAME:EST
DTSTART:20241103T060000
END:STANDARD
BEGIN:DAYLIGHT
TZOFFSETFROM:-0500
TZOFFSETTO:-0400
TZNAME:EDT
DTSTART:20250309T070000
END:DAYLIGHT
BEGIN:STANDARD
TZOFFSETFROM:-0400
TZOFFSETTO:-0500
TZNAME:EST
DTSTART:20251102T060000
END:STANDARD
BEGIN:DAYLIGHT
TZOFFSETFROM:-0500
TZOFFSETTO:-0400
TZNAME:EDT
DTSTART:20260308T070000
END:DAYLIGHT
BEGIN:STANDARD
TZOFFSETFROM:-0400
TZOFFSETTO:-0500
TZNAME:EST
DTSTART:20261101T060000
END:STANDARD
END:VTIMEZONE
BEGIN:VEVENT
DTSTART;TZID=America/New_York:20250726T183000
DTEND;TZID=America/New_York:20250726T220000
DTSTAMP:20260423T170322
CREATED:20250715T022132Z
LAST-MODIFIED:20250715T235311Z
UID:12539-1753554600-1753567200@valeriehoffmanphotography.com
SUMMARY:Olympus/OM System  Focus Event_Computational Features
DESCRIPTION:If you follow my posts on social media\, you know that I absolutely LOVE using Olympus/OM System cameras. Olympus/OM System cameras have a number of unique features that allow users to create stunning images with ease. Computational features such as Live Composite\, Live Time\, Live ND\, Live Bulb\, Graduated ND\, Hi-Res shooting\, in-camera Focus Stacking\, and HDR mode are just some of the fantastic features built into most Olympus/OM System cameras. \nLive Composite-which I use a ton\, is great for star trails\, fireworks\, light painting\, moving clouds and more!\nThere are also Live Time and Live Build modes.\nIn-camera Focus Bracketing and Image stacking – I also use a ton for insect and other macro photography. You can set the camera to shoot a series of images at different focus points automatically. One option is to have the camera automatically merge up to 15 images together into a single image-IN-CAMERA! Other camera systems now offer Focus Bracketing\, but none merge and image for you in-camera. \nOther neat features exclusive to OM System cameras are Live ND and the new Live GradND. Skip carrying filters and use the in-camera features to simulate slower shutter speeds for motion\, moving water\, etc. The new GradND features offers the simulation of using a graduated ND filter\, to hold back the sky at sunrise\, etc. \nHDR Mode as use it\, shoots 3 images at two stops apart-with a single press of the button. You can choose to have the camera create an HDR image in-camera\, although I don’t like those results as much\, so I simply merge them in Lightroom Classic myself. In-camera double exposures and image overlay are yet another neat feature. \nA newer feature is Hi-Res Mode. The computational features of the camera will take a series of images that are then merged together in-camera to give up to an 80MP file! This feature is available for shooting hand-held as well as on a tripod-with varying file size outputs.\nThose are a few of the features that cause me to love having made the switch to Olympus almost 8 years ago\, and reasons I would likely never switch to another system. Oh\, and they are so much smaller and lighter(and in most cases less expensive! -but that’s not part of this class:) \nWe will meet to  photograph landscape\, flowers and insects using the Focus Bracketing and stacking features. We’ll slow moving water and moving clouds with the Live ND feature. We’ll shoot sunset with Live GradND. And we’ll also do some star trails and light painting using the Live Time\, Live Bulb and Live composite features. And set up some Hi-Res images\, as well. \nInstruction will be given on how to set the cameras and make adjustments for each feature.\nNote: not all cameras have all features.\nAlso note: Everyone is welcome to join us! If you are thinking about a new camera and would like to learn more about these features-sign up! \nLocation: Hopewell Lake Boat Launch\, French Creek State Park.   https://g.co/kgs/y9G9xP1 \nMore details will be given via email prior to the event. \nBelow are some examples using computational features \n\n			\n				\n			\n				\n				Live Composite\n				\n			\n				\n			\n				\n				Live Composite\n				\n			\n				\n			\n				\n				Live Composite\n				\n			\n				\n			\n				\n				Live Composite\n				\n			\n				\n			\n				\n				Live Composite_star trails\n				\n			\n				\n			\n				\n				Live Composite_lightning\n				\n			\n				\n			\n				\n				Live Composite_moving clouds\n				\n			\n				\n			\n				\n				Light Painting_Live Composite\n				\n			\n				\n			\n				\n				Fireflies_Live Composite\n				\n			\n				\n			\n				\n				Live Time\n				\n			\n				\n			\n				\n				Live Time\n				\n			\n				\n			\n				\n				Live Time\n				\n			\n				\n			\n				\n				Live Bulb\n				\n			\n				\n			\n				\n				Live ND\n				\n			\n				\n			\n				\n				Live ND\n				\n			\n				\n			\n				\n				Live ND\n				\n			\n				\n			\n				\n				Live ND\n				\n			\n				\n			\n				\n				In-camera Focus Bracketing\n				\n			\n				\n			\n				\n				In-camera Focus Bracketing\n				\n			\n				\n			\n				\n				HDR_3 images 2 stops apart\n				\n			\n				\n			\n				\n				Hi Res Mode_77MP\n				\n			\n				\n			\n				\n				Double Exposure_Image Overlay\n				\n			\n				\n			\n				\n				Double Exposure_Image Overlay\n				\n			\n				\n			\n				\n				Double Exposure_Image Overlay\n				\n		\n\n 
URL:https://valeriehoffmanphotography.com/trek/olympus-om-system-focus-event_computational-features/
CATEGORIES:Workshop
ATTACH;FMTTYPE=image/jpeg:https://valeriehoffmanphotography.com/wp-content/uploads/2025/07/P3261069.jpg
END:VEVENT
END:VCALENDAR