BEGIN:VCALENDAR
VERSION:2.0
PRODID:-// - ECPv6.15.20//NONSGML v1.0//EN
CALSCALE:GREGORIAN
METHOD:PUBLISH
X-ORIGINAL-URL:https://valeriehoffmanphotography.com
X-WR-CALDESC:Events for 
REFRESH-INTERVAL;VALUE=DURATION:PT1H
X-Robots-Tag:noindex
X-PUBLISHED-TTL:PT1H
BEGIN:VTIMEZONE
TZID:America/New_York
BEGIN:DAYLIGHT
TZOFFSETFROM:-0500
TZOFFSETTO:-0400
TZNAME:EDT
DTSTART:20210314T070000
END:DAYLIGHT
BEGIN:STANDARD
TZOFFSETFROM:-0400
TZOFFSETTO:-0500
TZNAME:EST
DTSTART:20211107T060000
END:STANDARD
BEGIN:DAYLIGHT
TZOFFSETFROM:-0500
TZOFFSETTO:-0400
TZNAME:EDT
DTSTART:20220313T070000
END:DAYLIGHT
BEGIN:STANDARD
TZOFFSETFROM:-0400
TZOFFSETTO:-0500
TZNAME:EST
DTSTART:20221106T060000
END:STANDARD
BEGIN:DAYLIGHT
TZOFFSETFROM:-0500
TZOFFSETTO:-0400
TZNAME:EDT
DTSTART:20230312T070000
END:DAYLIGHT
BEGIN:STANDARD
TZOFFSETFROM:-0400
TZOFFSETTO:-0500
TZNAME:EST
DTSTART:20231105T060000
END:STANDARD
END:VTIMEZONE
BEGIN:VEVENT
DTSTART;TZID=America/New_York:20220409T120000
DTEND;TZID=America/New_York:20220409T170000
DTSTAMP:20260423T230619
CREATED:20220204T221935Z
LAST-MODIFIED:20220404T231220Z
UID:7500-1649505600-1649523600@valeriehoffmanphotography.com
SUMMARY:Pennhurst Asylum Photo Trek - SOLD OUT! Contact us for possible opening
DESCRIPTION:Pennhurst was an institution for mentally and physically disabled individuals of Southeastern Pennsylvania. Constructed and opened in 1908 as a state school for the mentally and physically disabled\, Pennhurst’s property was vast\, covering 120 acres. Created to house over 10\,000 patients\, Pennhurst was one of the largest institutions of its kind in Pennsylvania. It was devoted strictly to the care\, treatment and education of the disabled. Originally named Pennhurst Home for the Feeble Minded and Epileptic\, it finally was just called Pennhurst State School. \nAfter a decade of controversy\, it closed on December 9\, 1987. Pennhurst fell into complete ruin as the complex was shut down. Buildings were abandoned as they were\, with patient’s clothes and belongings strewn about. Furniture\, cabinets and medical equipment were left to decay as if someone had just got up and walked out the front door. This is the place that will eventually resurrect into one of the most studied properties in the ghost hunter media\, and will become an amazing haunted attraction. The history is as fascinating as it is sad. \nJoin us as we photographically explore this remarkable and erie place! We will have access to the Mayflower building AND\, the newly reopened Devon building! As time allows\, we will also be taken on a guided tour of the safer parts of the grounds. \nA brief history will be given at the start of the tour\, then we will be free to photographically explore. The group will work through the two different buildings together\, but will have more than enough room so as not to interfere with other participant’s images.  \nAn overview and instruction will be given on creative composition\, exposure\, flash\, HDR photography\, light painting and more\, enabling you to be fully prepared and able to come away with creative images that truly capture the essence of the place.  \nA mandatory pre-trek Zoom class will take place a few days prior to the event to answer any questions\, get everyone inspired\, acquainted and comfortable with recommended settings\, gear and what to expect throughout the day. \nA full list of details will be emailed several weeks prior to the event. This workshop is suitable for all levels of photo enthusiasts\, but being familiar with the settings on your camera is highly recommended. You will be shooting in many areas with low light levels\, therefore it is important to be familiar with the operations of your camera. Anyone who is concerned about their level of understanding of their gear should consider scheduling a private lesson with Valerie prior to the event. \nPhysically\, you need to be able to be on your feet and move up and down several flights of stairs for up to five hours. The buildings are not heated or air conditioned\, and are in a state of arrested decay. You will be walking through areas of dirt\, dust\, and some potential hazards\, etc. Liability waivers will need to be signed for both Pennhurst and Valerie A Hoffman Photography. \nWorkshop fee includes instruction before and during the workshop\, tour and access to the buildings and grounds-as permitted by Pennhurst.
URL:https://valeriehoffmanphotography.com/trek/pennhurst-asylum-photo-trek-2/
LOCATION:Pennhurst Asylum\, 250 Commonwealth Dr\, Spring City\, PA\, 19475\, United States
CATEGORIES:Trek
ATTACH;FMTTYPE=image/jpeg:https://valeriehoffmanphotography.com/wp-content/uploads/2022/02/IMG_5076_5_4.jpg
END:VEVENT
END:VCALENDAR