BEGIN:VCALENDAR
VERSION:2.0
PRODID:-// - ECPv6.15.20//NONSGML v1.0//EN
CALSCALE:GREGORIAN
METHOD:PUBLISH
X-ORIGINAL-URL:https://valeriehoffmanphotography.com
X-WR-CALDESC:Events for 
REFRESH-INTERVAL;VALUE=DURATION:PT1H
X-Robots-Tag:noindex
X-PUBLISHED-TTL:PT1H
BEGIN:VTIMEZONE
TZID:America/New_York
BEGIN:DAYLIGHT
TZOFFSETFROM:-0500
TZOFFSETTO:-0400
TZNAME:EDT
DTSTART:20240310T070000
END:DAYLIGHT
BEGIN:STANDARD
TZOFFSETFROM:-0400
TZOFFSETTO:-0500
TZNAME:EST
DTSTART:20241103T060000
END:STANDARD
BEGIN:DAYLIGHT
TZOFFSETFROM:-0500
TZOFFSETTO:-0400
TZNAME:EDT
DTSTART:20250309T070000
END:DAYLIGHT
BEGIN:STANDARD
TZOFFSETFROM:-0400
TZOFFSETTO:-0500
TZNAME:EST
DTSTART:20251102T060000
END:STANDARD
BEGIN:DAYLIGHT
TZOFFSETFROM:-0500
TZOFFSETTO:-0400
TZNAME:EDT
DTSTART:20260308T070000
END:DAYLIGHT
BEGIN:STANDARD
TZOFFSETFROM:-0400
TZOFFSETTO:-0500
TZNAME:EST
DTSTART:20261101T060000
END:STANDARD
END:VTIMEZONE
BEGIN:VEVENT
DTSTART;TZID=America/New_York:20250715T080000
DTEND;TZID=America/New_York:20250715T170000
DTSTAMP:20260423T184240
CREATED:20250716T020050Z
LAST-MODIFIED:20250716T020121Z
UID:12606-1752566400-1752598800@valeriehoffmanphotography.com
SUMMARY:Photo Walk_ Second Mountain Sunflowers
DESCRIPTION:Join us as we explore the beautiful sunflower fields at Second Mountain Sunflowers! \nInstruction will be given on composing more creatively\, how aperture and depth of field affect the impact of the image\, how different focal lengths also provide more impactful images. For those interested\, we will work on shooting some macro images\, focusing on the tiny insects and bees that can be found amongst the flowers. No special camera gear is needed. Come with what you have and learn to use it more creatively. \nLocation: Orwigsburg \nSecond Mountain rotates fields for their sunflowers. And exact location will be shared closer to the event. \nAdmission to gardens is $10 and is not included in registration
URL:https://valeriehoffmanphotography.com/trek/photo-walk_-second-mountain-sunflowers/
CATEGORIES:Photo Walk
ATTACH;FMTTYPE=image/jpeg:https://valeriehoffmanphotography.com/wp-content/uploads/2025/07/P7280305-2.jpg
END:VEVENT
END:VCALENDAR