BEGIN:VCALENDAR
VERSION:2.0
PRODID:-// - ECPv6.15.20//NONSGML v1.0//EN
CALSCALE:GREGORIAN
METHOD:PUBLISH
X-ORIGINAL-URL:https://valeriehoffmanphotography.com
X-WR-CALDESC:Events for 
REFRESH-INTERVAL;VALUE=DURATION:PT1H
X-Robots-Tag:noindex
X-PUBLISHED-TTL:PT1H
BEGIN:VTIMEZONE
TZID:America/New_York
BEGIN:DAYLIGHT
TZOFFSETFROM:-0500
TZOFFSETTO:-0400
TZNAME:EDT
DTSTART:20200308T070000
END:DAYLIGHT
BEGIN:STANDARD
TZOFFSETFROM:-0400
TZOFFSETTO:-0500
TZNAME:EST
DTSTART:20201101T060000
END:STANDARD
BEGIN:DAYLIGHT
TZOFFSETFROM:-0500
TZOFFSETTO:-0400
TZNAME:EDT
DTSTART:20210314T070000
END:DAYLIGHT
BEGIN:STANDARD
TZOFFSETFROM:-0400
TZOFFSETTO:-0500
TZNAME:EST
DTSTART:20211107T060000
END:STANDARD
BEGIN:DAYLIGHT
TZOFFSETFROM:-0500
TZOFFSETTO:-0400
TZNAME:EDT
DTSTART:20220313T070000
END:DAYLIGHT
BEGIN:STANDARD
TZOFFSETFROM:-0400
TZOFFSETTO:-0500
TZNAME:EST
DTSTART:20221106T060000
END:STANDARD
END:VTIMEZONE
BEGIN:VEVENT
DTSTART;TZID=America/New_York:20210814T193000
DTEND;TZID=America/New_York:20210814T230000
DTSTAMP:20260423T213504
CREATED:20210803T010505Z
LAST-MODIFIED:20210804T002332Z
UID:6712-1628969400-1628982000@valeriehoffmanphotography.com
SUMMARY:Photographing Night Skies
DESCRIPTION:Have you ever stood beneath a starry sky and viewed the amazing array of celestial bodies\, such as the Milky Way\, a comet\, a meteor shower and even the moon? Do you dream of being able to capture images of the night skies\, or did you look at photos and think\, I could never do that? Maybe you’ve even tried and come away with images that were less than pleasing? Maybe you’ve just been afraid to try? Or maybe\, you just had no idea how to go about getting started. \n\n\n\nIf that’s you\, then join us for a learning opportunity designed just for you!  \n\n\n\nWe will begin with an approximately two hour (online) class that will go through everything you need to know to get started in astrophotography. We will discuss gear choices and the difference they can make\, when to go out in search of specific subjects in the sky\, how to locate them\, and how to easily capture them to create amazing images of your own. We will specifically discuss how to photograph the moon\, stars\, star trails\, and the Milky Way. Detailed information will be given on composition\, exposure settings\, dealing with the problem of digital noise\, focusing to get sharp stars and more! \n\n\n\nWe will also discuss how to prepare for success using useful apps\, such as Clear Skies\, Star Walk\, Photo Pills and The Photographers Ephemeris. Though this will not be a class on all that these apps can do\, you will gain an understanding of the simple tools that will help you to determine what day and what time of day to go out\, what to avoid\, how to decide where to set up to shoot\, and more. \n\n\n\n \n\n\n\nPre-trek class details: Due to time constraints and challenging schedules\, the class will be pre-recorded and be available to watch beginning Friday August 6th. A live follow-up Zoom mtg will take place on Tuesday August 10\, at 7pm\, for participants to ask any questions they may have prior to the photo trek. In order to help participants best prepare\, the class is mandatory for attending the actual photo trek\, and will help minimize confusion on location in the dark. The Zoom meeting is not mandatory\, but is offered to any questions from the class. Feel free to contact me with any questions\, comments or concerns.  \n\n\n\nThe location shoot will take place at French Creek State Park\, and will begin at 7:30pm and last to approximately 11pm. This will provide the opportunity to photograph the sunset and then allow plenty of time to get set up for photographing the skies. French Creek is one of the darkest areas in southeast PA\, and offers the ability to safely and conveniently gather as a group for a great learning opportunity. Exact location and meeting spot will be given upon registration. \n\n\n\nDate for workshop is set to coincide with the peak of the Perseids Meteor show \n\n\n\nThe photo trek will be held on Saturday August 14\, 2021 from 7:30-11pm\, weather-permitting. In case of rain or extreme cloudiness\, the trek will be rescheduled to Saturday August 20th\, same place and time.  \n\n\n\nPlease note special protective measures that will be in place throughout the in-person trek. \n\n\n\nUpdated Terms & Conditions – Valerie A Hoffman Photography (June 2020) \n\n\n\nYour safety and well-being are of the utmost importance to me. As we begin to navigate the reopening of business in the midst of the COVID19 pandemic\, the following updated policies are being put in place to protect the health and wellbeing of all workshop attendees\, as well as those who we will come in contact with during events. \n\n\n\nI will be following and adhering to state and CDC mandates going forward until we are clear of the threat of spreading the virus. \n\n\n\nThat being said\, here is what you need to know and comply with: \n\n\n\nAnyone who is sick with COVID like symptoms or has a fever over 100 degrees must not attend the event. Amount paid may be put towards a future workshop\, or can be refunded in full if notice is given in advance. Suggest checking your temperature BEFORE leaving home.Face Masks – Not currently mandated but are encouraged whenever you are in close (6 foot) proximity of other participants. When you are apart from others\, you may remove the mask.Workshop participants will be limited to a smaller than usual numberIndoor classes will also be limited in attendance based on the venue\, so participants can be seated the appropriate distance apart\n\n\n\n*Please note that this is a fluid situation and may change based on governmental directives\, CDC recommendations and legal advisement \n\n\n\n\n\n\n\n\n\n\n\n\n\n\n\n\n\nOLYMPUS DIGITAL CAMERAOLYMPUS DIGITAL CAMERAOLYMPUS DIGITAL CAMERA
URL:https://valeriehoffmanphotography.com/trek/photographing-night-skies/
CATEGORIES:Workshop
ATTACH;FMTTYPE=image/jpeg:https://valeriehoffmanphotography.com/wp-content/uploads/2019/08/674A1750.jpg
END:VEVENT
END:VCALENDAR