BEGIN:VCALENDAR
VERSION:2.0
PRODID:-// - ECPv6.15.20//NONSGML v1.0//EN
CALSCALE:GREGORIAN
METHOD:PUBLISH
X-ORIGINAL-URL:https://valeriehoffmanphotography.com
X-WR-CALDESC:Events for 
REFRESH-INTERVAL;VALUE=DURATION:PT1H
X-Robots-Tag:noindex
X-PUBLISHED-TTL:PT1H
BEGIN:VTIMEZONE
TZID:America/New_York
BEGIN:DAYLIGHT
TZOFFSETFROM:-0500
TZOFFSETTO:-0400
TZNAME:EDT
DTSTART:20220313T070000
END:DAYLIGHT
BEGIN:STANDARD
TZOFFSETFROM:-0400
TZOFFSETTO:-0500
TZNAME:EST
DTSTART:20221106T060000
END:STANDARD
BEGIN:DAYLIGHT
TZOFFSETFROM:-0500
TZOFFSETTO:-0400
TZNAME:EDT
DTSTART:20230312T070000
END:DAYLIGHT
BEGIN:STANDARD
TZOFFSETFROM:-0400
TZOFFSETTO:-0500
TZNAME:EST
DTSTART:20231105T060000
END:STANDARD
BEGIN:DAYLIGHT
TZOFFSETFROM:-0500
TZOFFSETTO:-0400
TZNAME:EDT
DTSTART:20240310T070000
END:DAYLIGHT
BEGIN:STANDARD
TZOFFSETFROM:-0400
TZOFFSETTO:-0500
TZNAME:EST
DTSTART:20241103T060000
END:STANDARD
END:VTIMEZONE
BEGIN:VEVENT
DTSTART;TZID=America/New_York:20230701T183000
DTEND;TZID=America/New_York:20230701T220000
DTSTAMP:20260423T233632
CREATED:20230604T011416Z
LAST-MODIFIED:20230606T010327Z
UID:8190-1688236200-1688248800@valeriehoffmanphotography.com
SUMMARY:Shooting Sports Like A Pro at The Reading Fightin' Phils!
DESCRIPTION:What better way to enjoy summer than spending an evening at a baseball game? And for the photo enthusiast\, what better way to enjoy the game than capturing the action like the pros in the press area! We will have special access during the entire game to shoot in the private areas along the first and third base dugouts. We will also be able to shoot from a variety of locations throughout the stadium. Instructors will be there to help you capture the action with whatever gear\, and whatever level of photographic knowledge you have. \nWe will begin with a pre-trek Zoom class a few days prior\, to go over all the shooting details and settings you would use to capture the action. This will include specifics on gear choices\, exposure settings\, best focusing practices\, anticipating the action\, dealing with tricky lighting-including flicker from stadium lights\, and more. This will also include detailed instruction on how to photograph fireworks. \nAs an added bonus\, there will be a spectacular fireworks display after the game that we will photograph from a great location. Don’t miss this fun and fantastic opportunity to capture baseball images like a pro in an absolutely fun environment! \nRain date for this event will be Saturday\, July 29th.  A detailed informational letter will be sent to participants approximately one week prior to the trek. Note: trek ends after the fireworks display at the end of the game. \nMaximum of 6 participants\, so don’t wait to register. Event will likely sell out quickly! \nLocation: First Energy Stadium\, 1900 Centre Ave\, Reading\, PA 19601
URL:https://valeriehoffmanphotography.com/trek/shooting-sports-like-a-pro-with-the-reading-fightin-phils/
LOCATION:Reading Phillies
CATEGORIES:Trek
ATTACH;FMTTYPE=image/jpeg:https://valeriehoffmanphotography.com/wp-content/uploads/2022/05/674A1743.jpg
END:VEVENT
END:VCALENDAR