BEGIN:VCALENDAR
VERSION:2.0
PRODID:-// - ECPv6.15.20//NONSGML v1.0//EN
CALSCALE:GREGORIAN
METHOD:PUBLISH
X-ORIGINAL-URL:https://valeriehoffmanphotography.com
X-WR-CALDESC:Events for 
REFRESH-INTERVAL;VALUE=DURATION:PT1H
X-Robots-Tag:noindex
X-PUBLISHED-TTL:PT1H
BEGIN:VTIMEZONE
TZID:America/New_York
BEGIN:DAYLIGHT
TZOFFSETFROM:-0500
TZOFFSETTO:-0400
TZNAME:EDT
DTSTART:20200308T070000
END:DAYLIGHT
BEGIN:STANDARD
TZOFFSETFROM:-0400
TZOFFSETTO:-0500
TZNAME:EST
DTSTART:20201101T060000
END:STANDARD
BEGIN:DAYLIGHT
TZOFFSETFROM:-0500
TZOFFSETTO:-0400
TZNAME:EDT
DTSTART:20210314T070000
END:DAYLIGHT
BEGIN:STANDARD
TZOFFSETFROM:-0400
TZOFFSETTO:-0500
TZNAME:EST
DTSTART:20211107T060000
END:STANDARD
BEGIN:DAYLIGHT
TZOFFSETFROM:-0500
TZOFFSETTO:-0400
TZNAME:EDT
DTSTART:20220313T070000
END:DAYLIGHT
BEGIN:STANDARD
TZOFFSETFROM:-0400
TZOFFSETTO:-0500
TZNAME:EST
DTSTART:20221106T060000
END:STANDARD
END:VTIMEZONE
BEGIN:VEVENT
DTSTART;TZID=America/New_York:20210313T100000
DTEND;TZID=America/New_York:20210313T133000
DTSTAMP:20260423T220401
CREATED:20210118T024434Z
LAST-MODIFIED:20210124T135000Z
UID:5468-1615629600-1615642200@valeriehoffmanphotography.com
SUMMARY:Simeone Automotive Museum
DESCRIPTION:Located in Philadelphia\, PA (near the airport)\, the Simeone Foundation Automotive Museum is one of the world’s greatest collections of racing sports cars. From their website: “Through the theme\, “The Spirit of Competition”\, we celebrate the history and evolution of these magnificent machines. Assembled over 50 years by Dr. Frederick Simeone\, the Museum contains over 65 historically significant cars including Ferrari\, Alfa Romeo\, Bugatti\, Mercedes\, Jaguar\, Bentley\, Porsche\, Aston Martin\, Corvette\, Ford and more.” \n\n\n\nThe museum is an amazing place to photograph-whether you are into cars or not! There are so many creative options! Come break the winter doldrums with us as we explore this hidden gem.  \n\n\n\nWorkshop is geared for beginners and more advanced photo enthusiasts. No special gear is required\, except a tripod. Cable release or wireless remote is highly recommended\, as well as a circular polarizer and lens hood for each lens.
URL:https://valeriehoffmanphotography.com/trek/simeone-automotive-museum/
LOCATION:Simeone Museum\, 6825 Norwitch Drive\, Philadelphia\, PA\, 19153\, United States
CATEGORIES:Trek,Workshop
ATTACH;FMTTYPE=image/jpeg:https://valeriehoffmanphotography.com/wp-content/uploads/2016/01/The-American.jpg
END:VEVENT
END:VCALENDAR