BEGIN:VCALENDAR
VERSION:2.0
PRODID:-// - ECPv6.15.20//NONSGML v1.0//EN
CALSCALE:GREGORIAN
METHOD:PUBLISH
X-ORIGINAL-URL:https://valeriehoffmanphotography.com
X-WR-CALDESC:Events for 
REFRESH-INTERVAL;VALUE=DURATION:PT1H
X-Robots-Tag:noindex
X-PUBLISHED-TTL:PT1H
BEGIN:VTIMEZONE
TZID:America/New_York
BEGIN:DAYLIGHT
TZOFFSETFROM:-0500
TZOFFSETTO:-0400
TZNAME:EDT
DTSTART:20230312T070000
END:DAYLIGHT
BEGIN:STANDARD
TZOFFSETFROM:-0400
TZOFFSETTO:-0500
TZNAME:EST
DTSTART:20231105T060000
END:STANDARD
BEGIN:DAYLIGHT
TZOFFSETFROM:-0500
TZOFFSETTO:-0400
TZNAME:EDT
DTSTART:20240310T070000
END:DAYLIGHT
BEGIN:STANDARD
TZOFFSETFROM:-0400
TZOFFSETTO:-0500
TZNAME:EST
DTSTART:20241103T060000
END:STANDARD
BEGIN:DAYLIGHT
TZOFFSETFROM:-0500
TZOFFSETTO:-0400
TZNAME:EDT
DTSTART:20250309T070000
END:DAYLIGHT
BEGIN:STANDARD
TZOFFSETFROM:-0400
TZOFFSETTO:-0500
TZNAME:EST
DTSTART:20251102T060000
END:STANDARD
END:VTIMEZONE
BEGIN:VEVENT
DTSTART;TZID=America/New_York:20241026T100000
DTEND;TZID=America/New_York:20241026T130000
DTSTAMP:20260423T184406
CREATED:20240913T003023Z
LAST-MODIFIED:20240930T165744Z
UID:11528-1729936800-1729947600@valeriehoffmanphotography.com
SUMMARY:The Mill at Anselma Photo Trek
DESCRIPTION:Nestled along Pickering Creek in Chester Springs\, Pennsylvania\, the Mill at Anselma is an extraordinary historic site demonstrating over 250 years of Chester County’s industrial history. The 22-acre property and surviving historical buildings demonstrate a heritage engineered to last. \nThe Mill retains its original Colonial-Era power train and multiple layers of industrial equipment ranging from the late 1700s to the mid-1900s. The Mill at Anselma is the last custom grain mill in America that can still produce a product with its original wooden engineering. \nJoin me as we spend several hours photographing this historic mill complex. The creative possibilities are overflowing. Instruction will be given on creative composition\, creative exposure settings and how to best capture the high dynamic range light\, how to use artificial light to fill in shadows and more! \nWe will begin with a pre-trek class via Zoom\, to go over all the details along with shooting tips and techniques. Hands-on instruction will continue throughout the workshop. Afterwards\, there will be an image review held via Zoom where the learning will continue as we go through composition\, exposure settings etc and discuss any ways images might have been improved. \nSpace is limited. Register today! \nThe Mill at Anselma is located at 1730 Conestoga Road\, Chester Springs\, PA 19425
URL:https://valeriehoffmanphotography.com/trek/the-mill-at-anselmo-photo-trek/
CATEGORIES:Trek,Workshop
ATTACH;FMTTYPE=image/jpeg:https://valeriehoffmanphotography.com/wp-content/uploads/2024/09/P7289654-HDR.jpg
END:VEVENT
END:VCALENDAR