BEGIN:VCALENDAR
VERSION:2.0
PRODID:-// - ECPv6.15.20//NONSGML v1.0//EN
CALSCALE:GREGORIAN
METHOD:PUBLISH
X-ORIGINAL-URL:https://valeriehoffmanphotography.com
X-WR-CALDESC:Events for 
REFRESH-INTERVAL;VALUE=DURATION:PT1H
X-Robots-Tag:noindex
X-PUBLISHED-TTL:PT1H
BEGIN:VTIMEZONE
TZID:America/New_York
BEGIN:DAYLIGHT
TZOFFSETFROM:-0500
TZOFFSETTO:-0400
TZNAME:EDT
DTSTART:20220313T070000
END:DAYLIGHT
BEGIN:STANDARD
TZOFFSETFROM:-0400
TZOFFSETTO:-0500
TZNAME:EST
DTSTART:20221106T060000
END:STANDARD
BEGIN:DAYLIGHT
TZOFFSETFROM:-0500
TZOFFSETTO:-0400
TZNAME:EDT
DTSTART:20230312T070000
END:DAYLIGHT
BEGIN:STANDARD
TZOFFSETFROM:-0400
TZOFFSETTO:-0500
TZNAME:EST
DTSTART:20231105T060000
END:STANDARD
BEGIN:DAYLIGHT
TZOFFSETFROM:-0500
TZOFFSETTO:-0400
TZNAME:EDT
DTSTART:20240310T070000
END:DAYLIGHT
BEGIN:STANDARD
TZOFFSETFROM:-0400
TZOFFSETTO:-0500
TZNAME:EST
DTSTART:20241103T060000
END:STANDARD
END:VTIMEZONE
BEGIN:VEVENT
DTSTART;TZID=America/New_York:20230221T190000
DTEND;TZID=America/New_York:20230221T200000
DTSTAMP:20260424T055837
CREATED:20230213T224609Z
LAST-MODIFIED:20230214T012958Z
UID:9651-1677006000-1677009600@valeriehoffmanphotography.com
SUMMARY:Tuesdays Together_The Beauty of Black and White
DESCRIPTION:I tend to gravitate towards bold color subjects and images\, but there are many scenes and subjects that are far better as black and whites than in color. These images tend to be more graphically pleasing and moody. Shooting in/or converting to black and white in post processing reveals lines\, shapes\, texture and dimension far better than a color image ever could. There are also certain lighting situations that just lend themselves better in black and white. \nUnderstanding when to shoot for black and white\, and how to convert a color image and edit to bring out the best is a tool that should be in everyone’s photographic toolbox! \nJoin us as we discuss what types of scenes and subjects lend themselves to black and white imagery\, and then best practices for editing them in Adobe LR. These tips will help no matter what software you use. \nCost is only $5! Session will be recorded and available for you to watch if unable to join us live\, and to watch again at a later date! \nZoom link will be sent upon registration
URL:https://valeriehoffmanphotography.com/trek/tuesdays-together_the-beauty-of-black-and-white/
CATEGORIES:Tuesdays Together Class Series
ATTACH;FMTTYPE=image/jpeg:https://valeriehoffmanphotography.com/wp-content/uploads/2023/02/P3221171.jpg
END:VEVENT
END:VCALENDAR