BEGIN:VCALENDAR
VERSION:2.0
PRODID:-// - ECPv6.15.20//NONSGML v1.0//EN
CALSCALE:GREGORIAN
METHOD:PUBLISH
X-ORIGINAL-URL:https://valeriehoffmanphotography.com
X-WR-CALDESC:Events for 
REFRESH-INTERVAL;VALUE=DURATION:PT1H
X-Robots-Tag:noindex
X-PUBLISHED-TTL:PT1H
BEGIN:VTIMEZONE
TZID:America/New_York
BEGIN:DAYLIGHT
TZOFFSETFROM:-0500
TZOFFSETTO:-0400
TZNAME:EDT
DTSTART:20220313T070000
END:DAYLIGHT
BEGIN:STANDARD
TZOFFSETFROM:-0400
TZOFFSETTO:-0500
TZNAME:EST
DTSTART:20221106T060000
END:STANDARD
BEGIN:DAYLIGHT
TZOFFSETFROM:-0500
TZOFFSETTO:-0400
TZNAME:EDT
DTSTART:20230312T070000
END:DAYLIGHT
BEGIN:STANDARD
TZOFFSETFROM:-0400
TZOFFSETTO:-0500
TZNAME:EST
DTSTART:20231105T060000
END:STANDARD
BEGIN:DAYLIGHT
TZOFFSETFROM:-0500
TZOFFSETTO:-0400
TZNAME:EDT
DTSTART:20240310T070000
END:DAYLIGHT
BEGIN:STANDARD
TZOFFSETFROM:-0400
TZOFFSETTO:-0500
TZNAME:EST
DTSTART:20241103T060000
END:STANDARD
END:VTIMEZONE
BEGIN:VEVENT
DTSTART;TZID=America/New_York:20230404T190000
DTEND;TZID=America/New_York:20230404T200000
DTSTAMP:20260423T220501
CREATED:20230319T182033Z
LAST-MODIFIED:20230319T182033Z
UID:9928-1680634800-1680638400@valeriehoffmanphotography.com
SUMMARY:Understanding Manual Exposure Mode-When\, Why\, How to Use It With Ease
DESCRIPTION:Over the past several weeks\, we have been discussing some of the most important and foundational elements of photography. We began with an understanding of what Exposure is and and how to control it. Next we discussed how and why our cameras actually come up with the meter readings they give us\, and how to handle the times it gives us an incorrect reading. We also discussed how to read and understand the camera’s histogram. From there we spent two weeks discussing how to know which settings (aperture\, shutter speeds and ISO) to used for different scenarios and why. We also went through a bunch of those scenarios showing how to use these settings creatively. \nIn this lesson\, we discuss using manual exposure mode – when\, why\, how to use it. We’ll talk about the difference between Aperture Priority\, Shutter Priority\, and shooting in full manual\, and what types of scenes require that you take full control of your camera’s exposure settings. We discuss where the camera’s meter fails\, and will once again reference the histogram and what role it plays in getting correct exposures every time. \nIf you missed any of the previous lessons\, you can still feel to join us! If you struggle with understanding exposure and how to set your camera properly\, then I encourage you to take the guess work out using your camera and gain the knowledge you need to truly understand key camera settings to give you great results every time. You can still watch the recordings of each session. They are only $10 each. Just contact me (use the “contact”and I’ll get you set right up\, so you can catch up with this series!
URL:https://valeriehoffmanphotography.com/trek/understanding-manual-exposure-mode-when-why-how-to-use-it-with-ease/
CATEGORIES:Tuesdays Together Class Series
ATTACH;FMTTYPE=image/jpeg:https://valeriehoffmanphotography.com/wp-content/uploads/2023/03/P6031423.jpg
END:VEVENT
END:VCALENDAR