BEGIN:VCALENDAR
VERSION:2.0
PRODID:-// - ECPv6.15.20//NONSGML v1.0//EN
CALSCALE:GREGORIAN
METHOD:PUBLISH
X-ORIGINAL-URL:https://valeriehoffmanphotography.com
X-WR-CALDESC:Events for 
REFRESH-INTERVAL;VALUE=DURATION:PT1H
X-Robots-Tag:noindex
X-PUBLISHED-TTL:PT1H
BEGIN:VTIMEZONE
TZID:America/New_York
BEGIN:DAYLIGHT
TZOFFSETFROM:-0500
TZOFFSETTO:-0400
TZNAME:EDT
DTSTART:20220313T070000
END:DAYLIGHT
BEGIN:STANDARD
TZOFFSETFROM:-0400
TZOFFSETTO:-0500
TZNAME:EST
DTSTART:20221106T060000
END:STANDARD
BEGIN:DAYLIGHT
TZOFFSETFROM:-0500
TZOFFSETTO:-0400
TZNAME:EDT
DTSTART:20230312T070000
END:DAYLIGHT
BEGIN:STANDARD
TZOFFSETFROM:-0400
TZOFFSETTO:-0500
TZNAME:EST
DTSTART:20231105T060000
END:STANDARD
BEGIN:DAYLIGHT
TZOFFSETFROM:-0500
TZOFFSETTO:-0400
TZNAME:EDT
DTSTART:20240310T070000
END:DAYLIGHT
BEGIN:STANDARD
TZOFFSETFROM:-0400
TZOFFSETTO:-0500
TZNAME:EST
DTSTART:20241103T060000
END:STANDARD
END:VTIMEZONE
BEGIN:VEVENT
DTSTART;TZID=America/New_York:20230328T190000
DTEND;TZID=America/New_York:20230328T203000
DTSTAMP:20260423T233307
CREATED:20230226T041707Z
LAST-MODIFIED:20230226T041707Z
UID:9738-1680030000-1680035400@valeriehoffmanphotography.com
SUMMARY:Understanding Shutter Speed and How To Use It Creatively
DESCRIPTION:This week’s lesson deals with another foundational element of photography\, and key component of the Exposure Triangle. We will take the mystery out of when to choose shutter speeds over aperture settings\, what is Shutter Priority and when to use it\, and best settings for a variety of different scenes and subjects. Join us as we learn to use shutter speeds to create more compelling images!
URL:https://valeriehoffmanphotography.com/trek/understanding-shutter-speed-and-how-to-use-it-creatively/
CATEGORIES:Tuesdays Together Class Series
ATTACH;FMTTYPE=image/jpeg:https://valeriehoffmanphotography.com/wp-content/uploads/2023/02/IMG_4746.jpg
END:VEVENT
END:VCALENDAR