BEGIN:VCALENDAR
VERSION:2.0
PRODID:-// - ECPv6.15.20//NONSGML v1.0//EN
CALSCALE:GREGORIAN
METHOD:PUBLISH
X-ORIGINAL-URL:https://valeriehoffmanphotography.com
X-WR-CALDESC:Events for 
REFRESH-INTERVAL;VALUE=DURATION:PT1H
X-Robots-Tag:noindex
X-PUBLISHED-TTL:PT1H
BEGIN:VTIMEZONE
TZID:America/New_York
BEGIN:DAYLIGHT
TZOFFSETFROM:-0500
TZOFFSETTO:-0400
TZNAME:EDT
DTSTART:20230312T070000
END:DAYLIGHT
BEGIN:STANDARD
TZOFFSETFROM:-0400
TZOFFSETTO:-0500
TZNAME:EST
DTSTART:20231105T060000
END:STANDARD
BEGIN:DAYLIGHT
TZOFFSETFROM:-0500
TZOFFSETTO:-0400
TZNAME:EDT
DTSTART:20240310T070000
END:DAYLIGHT
BEGIN:STANDARD
TZOFFSETFROM:-0400
TZOFFSETTO:-0500
TZNAME:EST
DTSTART:20241103T060000
END:STANDARD
BEGIN:DAYLIGHT
TZOFFSETFROM:-0500
TZOFFSETTO:-0400
TZNAME:EDT
DTSTART:20250309T070000
END:DAYLIGHT
BEGIN:STANDARD
TZOFFSETFROM:-0400
TZOFFSETTO:-0500
TZNAME:EST
DTSTART:20251102T060000
END:STANDARD
END:VTIMEZONE
BEGIN:VEVENT
DTSTART;TZID=America/New_York:20240814T183000
DTEND;TZID=America/New_York:20240821T203000
DTSTAMP:20260423T202204
CREATED:20240731T000325Z
LAST-MODIFIED:20240731T000325Z
UID:11459-1723660200-1724272200@valeriehoffmanphotography.com
SUMMARY:Using Lenses Creatively @ Longwood Gardens
DESCRIPTION:Different from my normal workshops\, I will be leading this workshop for Longwood Gardens. Registration is through Longwood Gardens\, not me personally. There will be two online components as well as on location shooting in the gardens in the early hours of the morning!  \nHere are the details from the Longwood website: \n“What lens should I use?” may be one of the first questions you consider when preparing for a photography shoot. \nJoin expert photographer Valerie Hoffman in learning all about lenses—from their unique qualities to their creative opportunities—and get your lens questions answered. Lens choice is probably the most important decision you can make regarding image quality and artistic style—and when choosing your gear\, you can and should base your decision on desired (and more creative) results. Learn how to customize your photography experience and build your artist toolkit! \nCourse Schedule\nOnline Orientation\nWednesday\, August 14\, 6:30–7:30 pm \nOnsite Session\nSaturday\, August 17\, 7:00–10:00 am \nOnline Critique Session\nWednesday\, August 21\, 6:30–8:30 pm \nInclement weather date: August\, 18\, 2024 \nFull course content includes both the online and the onsite components. \nLocation\nOnsite at Longwood Gardens with additional online sessions. \nThis program will take place partially or entirely outdoors. Please dress for the weather and wear footwear suited for walking on uneven paths and through wet areas. \nTo register for this event\, follow this link: https://longwoodgardens.org/events-performances/events/all-about-lenses \nRegistration closes soon!
URL:https://valeriehoffmanphotography.com/trek/using-lenses-creatively-longwood-gardens/
LOCATION:Longwood Gardens\, 1001 Longwood Rd\, Kennett Square\, PA\, 19348\, United States
CATEGORIES:Workshop
ATTACH;FMTTYPE=image/jpeg:https://valeriehoffmanphotography.com/wp-content/uploads/2024/07/674A6150.jpg
END:VEVENT
END:VCALENDAR