BEGIN:VCALENDAR
VERSION:2.0
PRODID:-// - ECPv6.15.20//NONSGML v1.0//EN
CALSCALE:GREGORIAN
METHOD:PUBLISH
X-ORIGINAL-URL:https://valeriehoffmanphotography.com
X-WR-CALDESC:Events for 
REFRESH-INTERVAL;VALUE=DURATION:PT1H
X-Robots-Tag:noindex
X-PUBLISHED-TTL:PT1H
BEGIN:VTIMEZONE
TZID:America/New_York
BEGIN:DAYLIGHT
TZOFFSETFROM:-0500
TZOFFSETTO:-0400
TZNAME:EDT
DTSTART:20230312T070000
END:DAYLIGHT
BEGIN:STANDARD
TZOFFSETFROM:-0400
TZOFFSETTO:-0500
TZNAME:EST
DTSTART:20231105T060000
END:STANDARD
BEGIN:DAYLIGHT
TZOFFSETFROM:-0500
TZOFFSETTO:-0400
TZNAME:EDT
DTSTART:20240310T070000
END:DAYLIGHT
BEGIN:STANDARD
TZOFFSETFROM:-0400
TZOFFSETTO:-0500
TZNAME:EST
DTSTART:20241103T060000
END:STANDARD
BEGIN:DAYLIGHT
TZOFFSETFROM:-0500
TZOFFSETTO:-0400
TZNAME:EDT
DTSTART:20250309T070000
END:DAYLIGHT
BEGIN:STANDARD
TZOFFSETFROM:-0400
TZOFFSETTO:-0500
TZNAME:EST
DTSTART:20251102T060000
END:STANDARD
END:VTIMEZONE
BEGIN:VEVENT
DTSTART;TZID=America/New_York:20240601T100000
DTEND;TZID=America/New_York:20240601T150000
DTSTAMP:20260425T103711
CREATED:20240327T165138Z
LAST-MODIFIED:20240328T232411Z
UID:7837-1717236000-1717254000@valeriehoffmanphotography.com
SUMMARY:Lake Tobias Wildlife Safari
DESCRIPTION:For those who love wildlife and dream of going on a photo safari\, we have a great new Trek for you! \nFor over 50 years\, Lake Tobias Wildlife Park has been fascinating visitors with its wild\, exotic animals and adventure safaris. Nestled in the quiet country-side\, Lake Tobias resounds with the sights and sounds of the jungles and grasslands of six continents. Mammals\, reptiles and birds from around the world can be found here. Monkeys\, tigers\, ostriches and many other exciting creatures are presented in a zoo-type setting. \nThe safari tours are the main attraction\, and the primary focus of our photo trek. Open-air cruisers take you across 150 acres of rolling hills where you see herds of wild and exotic animals from around the world. Tour guides travel with you through pasture land and wooded areas sharing information on the various species and their habitats. There are more than 400 animals in the safari fields\, all roaming freely. This changing landscape makes each visit unique. Even multiple tours on the same day will offer different photographic opportunities as the animals move about. You will be amazed at how close you come to these animals! Many will stroll right beside our tour bus\, allowing guests to touch and feed them-making for some fantastic photo opportunities! Animals are in such close proximity to the vehicle that a standard telephoto in the range of 18-200  will give good coverage for all displays throughout the day. There is also a reptile and exotic animal facility\, where you will find large\, custom-designed habitats housing snakes\, lizards\, amphibians\, tropical birds\, a sloth\, lemurs and my personal favorites-Tamarins and Marmosets. A macro lens or 50mm would be great for the low-light inside. \nInstruction will be given on how to best capture the animals\, with emphasis placed on composition\, exposure and lighting. Workshop is suitable for all levels of photo enthusiasts\, and any camera gear you own. Information will be emailed to participants in advance to help with gear choice and other important information. We will also have a pre-trek class via Zoom\, to review all the details of the trek-including images taken on location\, all shooting info\, gear used\, etc. This will enable participants to be fully prepared to start capturing amazing images from the moment we see our first animals and onward. \nThe photo trek will run from 10am-3:00pm with a break for lunch. There are numerous pavilions where you can enjoy your own packed lunch\, or purchase food at a variety of stations. Food lines tend to get long\, so packing a picnic lunch is recommended. \nCost is $179. Fee for this workshop includes pre-trek zoom class\, a post trek image review\, admission to the park and tickets for two different safari rides-enabling the group more opportunities to see and photograph the animals on the tour\, and\, membership in our private Facebook group where you share and view images from other workshop participants\, and gain encouraging feedback and continued learning opportunities. \nTransportation to and from the park\, as well as any food or beverage purchases is not included. \nLake Tobias Wildlife Park is located about 25 miles north of Harrisburg and four miles north of Halifax\, just off Route 225. Address: 760 Tobias Rd\, Halifax\, PA \nPlease note that the safari ride can be VERY BUMMPY at times. If you have a bad back or other physical issues that a ride like this could further aggravate\, this may not be in your best interest at this time. (In case of heavy rain or storms\, the trek will be rescheduled to a future Saturday most conducive to the majority of the group.)
URL:https://valeriehoffmanphotography.com/trek/lake-tobias-wildlife-safari/
CATEGORIES:Trek
ATTACH;FMTTYPE=image/jpeg:https://valeriehoffmanphotography.com/wp-content/uploads/2022/04/674A3032.jpg
END:VEVENT
END:VCALENDAR