BEGIN:VCALENDAR
VERSION:2.0
PRODID:-// - ECPv6.15.20//NONSGML v1.0//EN
CALSCALE:GREGORIAN
METHOD:PUBLISH
X-ORIGINAL-URL:https://valeriehoffmanphotography.com
X-WR-CALDESC:Events for 
REFRESH-INTERVAL;VALUE=DURATION:PT1H
X-Robots-Tag:noindex
X-PUBLISHED-TTL:PT1H
BEGIN:VTIMEZONE
TZID:America/New_York
BEGIN:DAYLIGHT
TZOFFSETFROM:-0500
TZOFFSETTO:-0400
TZNAME:EDT
DTSTART:20240310T070000
END:DAYLIGHT
BEGIN:STANDARD
TZOFFSETFROM:-0400
TZOFFSETTO:-0500
TZNAME:EST
DTSTART:20241103T060000
END:STANDARD
BEGIN:DAYLIGHT
TZOFFSETFROM:-0500
TZOFFSETTO:-0400
TZNAME:EDT
DTSTART:20250309T070000
END:DAYLIGHT
BEGIN:STANDARD
TZOFFSETFROM:-0400
TZOFFSETTO:-0500
TZNAME:EST
DTSTART:20251102T060000
END:STANDARD
BEGIN:DAYLIGHT
TZOFFSETFROM:-0500
TZOFFSETTO:-0400
TZNAME:EDT
DTSTART:20260308T070000
END:DAYLIGHT
BEGIN:STANDARD
TZOFFSETFROM:-0400
TZOFFSETTO:-0500
TZNAME:EST
DTSTART:20261101T060000
END:STANDARD
END:VTIMEZONE
BEGIN:VEVENT
DTSTART;TZID=America/New_York:20250802T090000
DTEND;TZID=America/New_York:20250802T113000
DTSTAMP:20260424T054328
CREATED:20250716T011306Z
LAST-MODIFIED:20250716T210037Z
UID:12582-1754125200-1754134200@valeriehoffmanphotography.com
SUMMARY:Sunflower Photography Photo Walk_September Farm
DESCRIPTION:Join us as we explore the beautiful sunflower fields at September Farm. Instruction will be given on composing more creatively\, how aperture and depth of field affect the impact of the image\, how different focal lengths also provide more impactful images. For those interested\, we will work on shooting some macro images\, focusing on the tiny insects and bees that can be found amongst the flowers. No special camera gear is needed. Come with what you have and learn to use it more creatively. \nSeptember Farm Cheese is located at 5287 Horseshoe Pike\, Honey Brook\, PA 19344
URL:https://valeriehoffmanphotography.com/trek/sunflower-photography-photo-walk_september-farm/
CATEGORIES:Photo Walk
ATTACH;FMTTYPE=image/jpeg:https://valeriehoffmanphotography.com/wp-content/uploads/2025/07/P7220750.jpg
END:VEVENT
BEGIN:VEVENT
DTSTART;TZID=America/New_York:20250809T100000
DTEND;TZID=America/New_York:20250809T123000
DTSTAMP:20260424T054328
CREATED:20250716T014542Z
LAST-MODIFIED:20250716T210119Z
UID:12632-1754733600-1754742600@valeriehoffmanphotography.com
SUMMARY:Sunflower Photo Walk_ Second Mountain Sunflowers
DESCRIPTION:Join us as we explore the beautiful sunflower fields at Second Mountain Sunflowers.\nInstruction will be given on composing more creatively\, how aperture and depth of field affect the impact of the image\, how different focal lengths also provide more impactful images. For those interested\, we will work on shooting some macro images\, focusing on the tiny insects and bees that can be found amongst the flowers. No special camera gear is needed. Come with what you have and learn to use it more creatively. \nLocation: Orwigsburg \nSecond Mountain rotates fields for their sunflowers. And exact location will be shared closer to the event. \nAdmission to gardens is $10 and is not included in registration
URL:https://valeriehoffmanphotography.com/trek/sunflower-photo-walk_-second-mountain-sunflowers/
CATEGORIES:Photo Walk
ATTACH;FMTTYPE=image/jpeg:https://valeriehoffmanphotography.com/wp-content/uploads/2025/07/P7220750.jpg
END:VEVENT
BEGIN:VEVENT
DTSTART;TZID=America/New_York:20250815T183000
DTEND;TZID=America/New_York:20250815T213000
DTSTAMP:20260424T054328
CREATED:20250611T233024Z
LAST-MODIFIED:20250619T014511Z
UID:8189-1755282600-1755293400@valeriehoffmanphotography.com
SUMMARY:SOLD OUT!!! Shooting Sports Like A Pro With The Reading Fightin' Phils
DESCRIPTION:This event has sold out. Please use the contact form to let me know if interested if a spot becomes open\, or if I add a second date. If there is enough interest\, I will do my best to add another date. \nWhat better way to enjoy a summer evening than spending an evening at a baseball game? And for the photo enthusiast\, what better way to enjoy the game than capturing the action like the pros in the press area! We will have special access during the entire game to shoot in the press areas along the first and third base dugouts. We will also be able to shoot from a variety of locations throughout the stadium. Instruction will be given prior to the event during a pre-trek Zoom class\, and throughout to help you capture the action with whatever gear\, and whatever level of photographic knowledge you have. \nAnd\, as an added bonus\, there will be a spectacular fireworks display after the game that we will photograph from a great location. Don’t miss this fun and fantastic opportunity to capture baseball images like a pro! \nRegistration fee includes pre-trek zoom class\, admission to stadium\, press passes\, instruction throughout the evening and fireworks show! Also included is a post-trek image review. \nLocation: First Energy Stadium\, 1900 Centre Ave\, Reading\, PA 19601
URL:https://valeriehoffmanphotography.com/trek/shooting-sports-like-a-pro-with-the-reading-fightin-phils-2/
CATEGORIES:Photo Walk,Trek
ATTACH;FMTTYPE=image/jpeg:https://valeriehoffmanphotography.com/wp-content/uploads/2025/06/P8021262.jpg
END:VEVENT
END:VCALENDAR