BEGIN:VCALENDAR
VERSION:2.0
PRODID:-// - ECPv6.15.20//NONSGML v1.0//EN
CALSCALE:GREGORIAN
METHOD:PUBLISH
X-ORIGINAL-URL:https://valeriehoffmanphotography.com
X-WR-CALDESC:Events for 
REFRESH-INTERVAL;VALUE=DURATION:PT1H
X-Robots-Tag:noindex
X-PUBLISHED-TTL:PT1H
BEGIN:VTIMEZONE
TZID:America/New_York
BEGIN:DAYLIGHT
TZOFFSETFROM:-0500
TZOFFSETTO:-0400
TZNAME:EDT
DTSTART:20240310T070000
END:DAYLIGHT
BEGIN:STANDARD
TZOFFSETFROM:-0400
TZOFFSETTO:-0500
TZNAME:EST
DTSTART:20241103T060000
END:STANDARD
BEGIN:DAYLIGHT
TZOFFSETFROM:-0500
TZOFFSETTO:-0400
TZNAME:EDT
DTSTART:20250309T070000
END:DAYLIGHT
BEGIN:STANDARD
TZOFFSETFROM:-0400
TZOFFSETTO:-0500
TZNAME:EST
DTSTART:20251102T060000
END:STANDARD
BEGIN:DAYLIGHT
TZOFFSETFROM:-0500
TZOFFSETTO:-0400
TZNAME:EDT
DTSTART:20260308T070000
END:DAYLIGHT
BEGIN:STANDARD
TZOFFSETFROM:-0400
TZOFFSETTO:-0500
TZNAME:EST
DTSTART:20261101T060000
END:STANDARD
END:VTIMEZONE
BEGIN:VEVENT
DTSTART;TZID=America/New_York:20251121T223000
DTEND;TZID=America/New_York:20251122T013000
DTSTAMP:20260423T201008
CREATED:20250627T211923Z
LAST-MODIFIED:20250717T230341Z
UID:12383-1763764200-1763775000@valeriehoffmanphotography.com
SUMMARY:A Longwood Christmas-After Hours!
DESCRIPTION:***This event is SOLD OUT! There is a waitlist you might be able to get on. \nI am thrilled to be leading a workshop to photograph the beauty of Longwood Gardens at Christmas\, for 3 amazing hours after the gardens close to the public! \nThis 3 part workshop is being handled exclusively through Longwood Gardens \nDetails from Longwood Garden’s website:: \nRevel in exclusive after-hours access to A Longwood Christmas—including the new West Conservatory—and capture this festive display at your leisure! \nIf you’ve dreamt of a quiet\, after-hours photography session capturing the magic of A Longwood Christmas\, this is your chance to enjoy an exclusive opportunity getting stunning shots of both indoor and outdoor spaces in our Gardens. Start your experience with an online orientation and a brief discussion of night and low-light photography. Then\, meet with instructor Valerie Hoffman at the East Conservatory for an introduction before you are free to roam our Gardens to capture the magic of the display at your own pace and with plenty of space. Reconvene back at the East Conservatory to conclude the photography session\, then wrap up your experience with a friendly online critique and a chance to show off your work! \nCourse Schedule\nOnline Orientation\nWednesday\, November 19\, 6:00–7:00 pm \nOnsite Session\nFriday\, November 21\, 10:30 pm–1:30 am \nInclement weather date: Saturday\, November 22\, 2025 \nOnline Critique Session\nTuesday\, December 2\, 6:00–8:00 pm \nFull course content includes both the online and the onsite components. \nLocation\nOnsite at Longwood Gardens with additional online sessions. \nSee event website for registration: https://longwoodgardens.org/events-performances/events/photography-after-hours-longwood-christmas \nPlease Note: The images shown below were taken over a period of many years. They do not specifically represent what will be seen on our workshop. Decorations change every year.
URL:https://valeriehoffmanphotography.com/trek/a-longwood-christmas-after-hours/
LOCATION:Longwood Gardens\, 1001 Longwood Rd\, Kennett Square\, PA\, 19348\, United States
CATEGORIES:Workshop
ATTACH;FMTTYPE=image/jpeg:https://valeriehoffmanphotography.com/wp-content/uploads/2025/06/674A8011_10_09.jpg
END:VEVENT
END:VCALENDAR