BEGIN:VCALENDAR
VERSION:2.0
PRODID:-// - ECPv6.15.20//NONSGML v1.0//EN
CALSCALE:GREGORIAN
METHOD:PUBLISH
X-ORIGINAL-URL:https://valeriehoffmanphotography.com
X-WR-CALDESC:Events for 
REFRESH-INTERVAL;VALUE=DURATION:PT1H
X-Robots-Tag:noindex
X-PUBLISHED-TTL:PT1H
BEGIN:VTIMEZONE
TZID:America/New_York
BEGIN:DAYLIGHT
TZOFFSETFROM:-0500
TZOFFSETTO:-0400
TZNAME:EDT
DTSTART:20250309T070000
END:DAYLIGHT
BEGIN:STANDARD
TZOFFSETFROM:-0400
TZOFFSETTO:-0500
TZNAME:EST
DTSTART:20251102T060000
END:STANDARD
BEGIN:DAYLIGHT
TZOFFSETFROM:-0500
TZOFFSETTO:-0400
TZNAME:EDT
DTSTART:20260308T070000
END:DAYLIGHT
BEGIN:STANDARD
TZOFFSETFROM:-0400
TZOFFSETTO:-0500
TZNAME:EST
DTSTART:20261101T060000
END:STANDARD
BEGIN:DAYLIGHT
TZOFFSETFROM:-0500
TZOFFSETTO:-0400
TZNAME:EDT
DTSTART:20270314T070000
END:DAYLIGHT
BEGIN:STANDARD
TZOFFSETFROM:-0400
TZOFFSETTO:-0500
TZNAME:EST
DTSTART:20271107T060000
END:STANDARD
END:VTIMEZONE
BEGIN:VEVENT
DTSTART;TZID=America/New_York:20260314T100000
DTEND;TZID=America/New_York:20260314T130000
DTSTAMP:20260423T171418
CREATED:20260310T012415Z
LAST-MODIFIED:20260310T204705Z
UID:13119-1773482400-1773493200@valeriehoffmanphotography.com
SUMMARY:Postponed! New date TBD-Creative Photography at Red Horse Motoring Club
DESCRIPTION:Join me for a fun few hours photographing at a brand new location! \nThe Red Horse Motoring Club is a facility that was originally a Chrysler Dodge dealership that opened in 1922. Now remodeled into our private car club\, you and your guests will be surrounded by classic cars\, motorcycles and a legendary collection of vintage gas pumps\, advertisement signs and dealership neons. (from their website) \nWe’ll have private access to photograph in this super-cool club. \nEmphasis will be on creative composition\, photographing using HDR to deal with the high dynamic range of light\, creative reflections\, close up details and more! \nRopes will be removed while we are there photographing. These images were from a very quick scouting visit. \nPottstown\, PA area. Address will be given upon registration
URL:https://valeriehoffmanphotography.com/trek/creative-photography-at-red-horse-motoring-club/
CATEGORIES:Photo Walk
ATTACH;FMTTYPE=image/jpeg:https://valeriehoffmanphotography.com/wp-content/uploads/2026/03/B2285845-HDR.jpg
END:VEVENT
BEGIN:VEVENT
DTSTART;TZID=America/New_York:20260321T070000
DTEND;TZID=America/New_York:20260321T100000
DTSTAMP:20260423T171418
CREATED:20260115T235334Z
LAST-MODIFIED:20260116T001723Z
UID:13077-1774076400-1774087200@valeriehoffmanphotography.com
SUMMARY:Capturing Blue Poppies-Creative Photography workshop
DESCRIPTION:This workshop is in cooperation with Longwood Gardens Continuing Education\, and is being handled exclusively through Longwood Gardens. Here are the details: \nThe Himalayan blue-poppy (Meconopsis ‘Lingholm’)—one of Longwood’s most photographed flowers—has both fascinated and challenged avid photographers for years\, as the flower’s coloration is one of the most elusive hues to capture in a photographic image. \nJoin us for this exclusive photography opportunity to capture these beautiful flowers and more with early access to the gardens! Workshop runs from 7-10am\, three hours before the gardens are open to the public! Workshop fee includes all day admission to the gardens! \nComplete details and registration for this workshop can be found on Longwood Gardens’s website https://longwoodgardens.org/events-performances/events/capturing-blue-poppies \nDon’t wait! This event sells out quickly!!! \nPlease note: If registering to join us\, it might be a good idea to keep the Saturdays before and after open\, in case projected bloom time changes.
URL:https://valeriehoffmanphotography.com/trek/capturing-blue-poppies-creative-photography-workshop/
CATEGORIES:Workshop
ATTACH;FMTTYPE=image/jpeg:https://valeriehoffmanphotography.com/wp-content/uploads/2026/01/B3292592.jpg
END:VEVENT
BEGIN:VEVENT
DTSTART;TZID=America/New_York:20260411T100000
DTEND;TZID=America/New_York:20260411T133000
DTSTAMP:20260423T171418
CREATED:20260316T214124Z
LAST-MODIFIED:20260407T220357Z
UID:13159-1775901600-1775914200@valeriehoffmanphotography.com
SUMMARY:Historic Lansdowne Theater Photo Trek
DESCRIPTION:History-\nThe Lansdowne Theater is a historic theatre building located in the commercial district of Lansdowne\, Delaware County\, Pennsylvania. \nThe Lansdowne first opened on June 1\, 1927\, as a turn-of-the-century movie house. Its elaborate and ornate style earned it acclaim as “the best example of suburban theatre construction around Philadelphia.” For more than a half-century\, it thrived as one of the premier hosts to movies and stage performances alike\, before an electrical fire forced its doors to close in 1987. \nAt long last\, calls to reopen the Lansdowne have been answered. A multi-million-dollar renovation project has restored the theater’s original charm and décor\, empowering the majestic theater to continue its century-long legacy. With its grand re-opening in 2025\, The Lansdowne looks to reclaim its status as one of Philadelphia’s foremost suburban theaters and entertainment hubs\, welcoming guests back with open arms. (from the website) \nOver the years I was able to take part in several photography workshops here-and even lead a few of my own. These were incredibly well received by photo enthusiasts who love to photograph abandoned or almost abandoned places\, and other architectural jewels. Even with the peeling paint\, construction lights and other visible decay\, the theatre was a great place to create some fantastic images. The centerpiece was the gorgeous chandelier\, which remained in tact\, and was a highlight to capture during the visit. Here a few “before” images \n\n			\n				\n			\n			\n				\n			\n			\n				\n			\n		\n\nNow that the theater has been restored\, we’ve secured a private-access opportunity to photograph this amazing place once again! \nJoin me for a unique\, educational and fun\, architecturally-focused photographic event!  We’ll discuss everything you need to know to capture beautiful images of this architectural gem on a pre-trek zoom. Focus will be on nailing exposure in very tricky lighting conditions\, creative composition\, creating panoramic images\, emphasizing the beautiful details of the space and more! \nThere will also be a post trek image review where participants can share their images and get tips on editing\, composition and more. Join us! \nPre-registration is required. A minimum number of participants is needed to run the event. Register now to secure your spot! Register by Thursday April 9th at 6pm to join the pre-trek zoom information class. \nThe Lansdowne Theater is located at 31 N Lansdowne Ave\, Lansdowne\, PA \n 
URL:https://valeriehoffmanphotography.com/trek/historic-lansdowne-theater-photo-trek/
CATEGORIES:Trek,Workshop
ATTACH;FMTTYPE=image/jpeg:https://valeriehoffmanphotography.com/wp-content/uploads/2026/03/B3135988-HDR.jpg
END:VEVENT
BEGIN:VEVENT
DTSTART;TZID=America/New_York:20260416T100000
DTEND;TZID=America/New_York:20260416T133000
DTSTAMP:20260423T171418
CREATED:20260115T233041Z
LAST-MODIFIED:20260413T195430Z
UID:5435-1776333600-1776346200@valeriehoffmanphotography.com
SUMMARY:Spring Blooms Photo Trek-Date Change!!!
DESCRIPTION:In April\, Longwood Gardens comes alive with spring bulbs and tulips in rainbows of color. Watch as spring color seemingly explodes to paint the landscape in vibrant hues. Tulips\, daffodils\, dogwoods\, wisteria and more herald spring’s arrival indoors and out. Breathe in the fresh spring air and relish the beauty as we photograph in the Idea Garden and Flower Garden Walk\, where more than 240\,000 tulips burst into bloom! \n\n\n\nThis Photo Trek will focus on creative composition and  learning to see more creatively. Our focus will be on composing gorgeous images of the grand landscape\, as well as getting up close and personal with the amazing details before our eyes. \n\n\n\nAmong the many techniques discussed will be how to creatively compose images to bring out the character of the subject\, learning to see and use light creatively\, using fill flash and diffusers to control harsh light\,  the use of circular polarizers to deepen color saturation and more\, in-camera multiple exposures and other creative techniques! \n\n\n\nGreat for all levels of photo enthusiasts with any camera gear. \n\n\n\nRecommended Gear: DSLR with fully charged batteries and lots of memory. Tripod and cable release. Circular polarizer. Lens hoods. Macro lens or close up accessories-helpful\, but not necessary. Knee pads. You will receive an email prior to the trek with detail on what to bring and all the details. A pre-trek zoom session will be held the week prior to go through teaching techniques and all the details. \nThis workshop is being held during the week to maximize photography apart from the huge weekend crowds. Trek is rain or shine. In the event of rain\, we will spend our time photographing inside the gorgeous conservatory. \n\n\n \nGroup is kept to a small number of participants in order to allow for plenty of personal assistance. A minimum number of participants is needed to run this trek. \n\n\n \nCost of workshop does not include admission to Longwood Gardens. Timed Tickets are necessary to enter the garden-for members as well as non-members during Spring Blooms. Please secure your timed ticket as soon as you register for this trek. DO NOT WAIT until the last minute! Longwood tickets sell out quickly! \n\n\n\n\n\n\n\n\n\n\n\n\n\n\n\n\n			\n				\n			\n			\n				\n			\n			\n				\n			\n			\n				\n			\n			\n				\n			\n			\n				\n			\n			\n				\n			\n			\n				\n			\n			\n				\n			\n			\n				\n			\n			\n				\n			\n			\n				\n			\n			\n				\n			\n			\n				\n			\n			\n				\n			\n			\n				\n			\n			\n				\n			\n			\n				\n			\n			\n				\n			\n			\n				\n			\n			\n				\n			\n			\n				\n			\n			\n				\n			\n			\n				\n			\n			\n				\n			\n			\n				\n			\n			\n				\n			\n		\n\n\n\n\n\n\n  \n\n 
URL:https://valeriehoffmanphotography.com/trek/spring-blooms-photo-trek/
LOCATION:Longwood Gardens\, 1001 Longwood Rd\, Kennett Square\, PA\, 19348\, United States
CATEGORIES:Trek,Workshop
ATTACH;FMTTYPE=image/jpeg:https://valeriehoffmanphotography.com/wp-content/uploads/2021/01/IMG_0219.jpg
END:VEVENT
BEGIN:VEVENT
DTSTART;TZID=America/New_York:20260417T153000
DTEND;TZID=America/New_York:20260419T120000
DTSTAMP:20260423T171418
CREATED:20260110T180034Z
LAST-MODIFIED:20260110T181103Z
UID:11119-1776439800-1776600000@valeriehoffmanphotography.com
SUMMARY:NJ Night Skies Weekend Adventure Trek
DESCRIPTION:  \nHave you ever looked up at the night sky\, and wished you could capture stunning images of the stars? \nAstro photography is a fascinating and fun photographic venture. But it can also be extremely challenging. Knowing where to go and when\, what gear to bring\, and being able to see\, focus\, and change camera settings in the dark can be intimidating and frustrating to a beginner. But\, capturing great images of the night skies is easier than you think! You just need a few key pieces of gear\, and a good understanding of some basic camera settings\, and you are off to discovering a whole new world! \nJoin us for our Night Skies photography workshop in South Jersey\, where we potentially plan on photographing the stars\, star trails and Milky Way above 2 different lighthouses and a WW1 military bunker! (plans are subject to change). We will be fully immersed in shooting and editing images from Friday before sunset until Sunday afternoon! \nThe workshop begins on Friday April 17th at 3:30pm and runs through Sunday the 19th at noon. There will be a pre-trek class being held via Zoom on Wednesday April 8th at 7pm. During the class we will review everything you need to know to come away with great images\, including what gear to bring\, what settings to use for a variety of shooting scenarios\, where we’ll go\, what we’ll see and more! \nWe can work with whatever gear you have\, but\, a camera that can be set fully manually (both exposure and focus)\, a sturdy tripod and a fast wide angle lens will give the best results. Your camera needs to have the ability to shoot at an ISO as high as 6400 or higher for best results\, but 3200 ISO would still work. \nThere will be hands-on\, detailed instruction given throughout the event\, but photographer’s should come with a good understanding of how to use their own camera\, and be able to change aperture\, shutter speeds\, ISO and focus without struggle-in the dark. Although we will make as many settings as we can before heading out\, the majority of the time you will be operating your gear in the dark(with the help of a faint flashlight)\, and you should be comfortable doing so. You should also be comfortable with being out -with the group\, for up to 4 hours or more in the dark\, potentially in chilly weather. This date was chosen to coincide with a New Moon\, so the moon’s brightness will not adversely affect the visibility of the stars. \nFriday night we will be out photographing as long as the conditions are suitable and the group has energy\, then return to our hotel for much needed rest. We will sleep in and rest until lunchtime on Saturday\, and are not currently planning on photographing any sunrises-unless we are still out:) We will try our best to capture sunset on both Friday and Saturday nights. \nHotel suggestions will be given upon registration. Hotel and meals are not included in the cost of the workshop. We are planning on carpooling together to locations. Passengers should come prepared to share gas expenses with their driver. \nWe will still be out shooting even if it is cloudy\, but will reschedule if high threat of rain. \nSpace is limited\, and will likely sell out. If you are interested in joining us\, don’t wait to register! A detailed informational email will be sent upon registration to help you prepare. Meeting/hotel location TBD \nIf you attended this event in previous years\, contact me for an Alumni discounted rate. Also\, if you are unable to make it for both nights and would like to join us for Friday or Saturday\, contact me and we can work out details! I’d like to make this an opportunity for anyone who would like to join us to be able to do so. \nIn case of inclement weather\, the workshop will be rescheduled. \nNote: Save $20 by paying by VENMO or CASH app! Just contact me to register. Valerie@ValerieHoffmanPhotography.com \n 
URL:https://valeriehoffmanphotography.com/trek/nj-night-skies-weekend-adventure-trek-2/
CATEGORIES:Trek,Workshop
ATTACH;FMTTYPE=image/jpeg:https://valeriehoffmanphotography.com/wp-content/uploads/2023/03/9176073-Enhanced-NR.jpg
END:VEVENT
BEGIN:VEVENT
DTSTART;TZID=America/New_York:20260508T080000
DTEND;TZID=America/New_York:20260508T170000
DTSTAMP:20260423T171418
CREATED:20260324T164412Z
LAST-MODIFIED:20260324T164844Z
UID:13289-1778227200-1778259600@valeriehoffmanphotography.com
SUMMARY:Wonders of Waterfall Photography
DESCRIPTION:One of my favorite times to photograph waterfalls is in the early spring\, when the leaves just have that amazing early green glow\, the temps are (usually) mild\, and there is often mist and fog in the early morning air. Perfect conditions for waterfall photography. And the Delaware Water Gap is a great place to photograph a bunch of beautiful waterfalls with minimal physical effort. \nJoin us for a full day of waterfall photography on a weekday to avoid the crowds. We will meet early to begin our adventure. Potential stops will be Bushkill\, Childs Park\, Dingman’s Falls and stream\, Marshall’s Falls\, and Raymondskill Falls and more. \nDuring our pre-workshop Zoom session\, you will learn everything you need to know to capture stunning waterfall images. Focus will be on the creative use of shutter speed to capture soft silky water\, composition\, depth of field\, dealing with high contrast light\, creative use of filters and more. Suggested gear will also be discussed. Minimal gear is needed-mainly a sturdy tripod and wide angle to mid-range zoom. \nThis workshop is great for beginners as well as more advanced photo enthusiasts. \nRegistration deadline is April 30th. Don’t wait-register today! \nNote: Number of tickets on website does not reflect actual number of tickets sold\, as many people choose to pay with Venmo or CASH app. Contact me directly if that is how you would like to pay. \nAlso consider staying overnight in the area and joining us for an incredible 3 hour shoot in the amazing Luna Parc-home to artist Ricky Boscarino. His private residence is open only a small handful of times per year. Check out more details and registration in separate event listing! \nBelow are shots from our potential waterfall spots.
URL:https://valeriehoffmanphotography.com/trek/wonders-of-waterfall-photography/
CATEGORIES:Trek,Workshop
ATTACH;FMTTYPE=image/jpeg:https://valeriehoffmanphotography.com/wp-content/uploads/2026/03/B9266808.jpg
END:VEVENT
BEGIN:VEVENT
DTSTART;TZID=America/New_York:20260508T080000
DTEND;TZID=America/New_York:20260509T160000
DTSTAMP:20260423T171418
CREATED:20260324T172835Z
LAST-MODIFIED:20260324T172835Z
UID:13229-1778227200-1778342400@valeriehoffmanphotography.com
SUMMARY:Delaware Water Gap Weekend Adventure! Waterfalls and Luna Parc!!!
DESCRIPTION:One of my favorite times to photograph waterfalls is in the early spring\, when the leaves just have that amazing early green glow\, the temps are (usually) mild\, and there is often mist and fog in the early morning air. Perfect conditions for waterfall photography. \nOn day one\, we will meet bright and early in the DWG\, and spend a full day photographing the beautiful waterfalls and streams in the Delaware Water Gap. Potential stops will be Bushkill\, Childs Park\, Dingman’s Falls and stream\, Marshall’s Falls\, and Raymondskill Falls. \nThen on day 2\, we have reserved a special visit to Luna Parc-the amazing private residence of Ricky Boscarino. We will photograph there in the morning\, then head back over to the PA side of the Gap to continue our waterfall adventure where we left off. \nAnd for those who will be participating for both days (you can register for Friday or Saturday separately)\, weather permitting\, there will be an additional option to drive a few minutes into New York to photograph the awesome\, curvy road at Hawk’s Nest\, to capture long exposures of car trails heading up and down the highway! \nHotel suggestions will be sent after registration. 2 double rooms have been reserved. First registrants get room option! \nIf you would like to join us for a single day-Friday or Saturday\, see separate event listings. \nNote: Number of tickets on website does not reflect actual number of tickets sold\, as many people choose to pay with Venmo or CASH app. Contact me directly if that is how you would like to pay. \n 
URL:https://valeriehoffmanphotography.com/trek/delaware-water-gap-weekend-adventure-waterfalls-and-luna-parc/
CATEGORIES:Weekend Adventure,Workshop
ATTACH;FMTTYPE=image/jpeg:https://valeriehoffmanphotography.com/wp-content/uploads/2026/03/P5200417-Enhanced-NR.jpg
END:VEVENT
BEGIN:VEVENT
DTSTART;TZID=America/New_York:20260509T110000
DTEND;TZID=America/New_York:20260509T140000
DTSTAMP:20260423T171418
CREATED:20260324T173033Z
LAST-MODIFIED:20260324T194253Z
UID:12879-1778324400-1778335200@valeriehoffmanphotography.com
SUMMARY:Creative Photo Trek to Luna Parc!
DESCRIPTION:Join us for a private workshop to one of the most interesting and unique places you’ll ever visit! \nDiscover Luna Parc\, a unique artistic playground tucked away on 8.5 wooded acres in northern New Jersey. Created by multimedia artist Richard “Ricky” Boscarino\, Luna Parc is filled with colorful\, quirky buildings and outdoor sculptures made from everything you can imagine—metal\, glass\, clay\, and even bowling balls and license plates. \nDuring this workshop\, you’ll get access to this 5\,000 square foot museum and home\, exploring both the unusual architecture and the fascinating interior filled with thousands of curious objects. From detailed mosaics to eclectic art pieces\, you’ll discover a treasure trove of quirky\, fascinating objects and artwork offering endless photo opportunities. There’s no shortage of interesting subjects to shoot! Whether you’re new to photography or a seasoned pro\, Luna Parc is the perfect playground to spark your creativity and capture something truly unique and fun. \nNo special gear is needed. A wide angle to midrange zoom lens is all you’ll need. You could even use your phone! \nWe will begin our workshop with a Zoom session where we will go through all the details of the workshop\, including detailed instruction on composition and exposure settings. \nAfter the workshop\, we will have a participant image review on zoom\, along with a variety of editing tips and tricks to make your images pop. \nA detailed email with details and location info will be sent prior to the event. \nPlease note: there are 11 levels (not floors) to the museum. Participants must be able to walk up and down many flights of stairs\, as well as walking on some uneven ground outdoors. As the majority of our time will be inside\, event will be held rain or shine. \nA minimum number of participants is needed to run this workshop\, as the cost to tour is a greater than normal cost.  \nNote: Number of tickets on website does not reflect actual number of tickets sold\, as many people choose to pay with Venmo or CASH app. Contact me directly if that is how you would like to pay. \nTicket price does include admission to grounds for this exclusive event. Deadline to register is May 1st!  \nIf you’d like more info\, check out this great video: https://www.youtube.com/watch?v=w4ifmCqRxWg&t=25s \n  \n\n			\n				\n			\n			\n				\n			\n			\n				\n			\n			\n				\n			\n			\n				\n			\n			\n				\n			\n			\n				\n			\n			\n				\n			\n			\n				\n			\n			\n				\n			\n			\n				\n			\n			\n				\n			\n			\n				\n			\n			\n				\n			\n			\n				\n			\n			\n				\n			\n			\n				\n			\n			\n				\n			\n			\n				\n			\n			\n				\n			\n			\n				\n			\n			\n				\n			\n			\n				\n			\n			\n				\n			\n			\n				\n			\n			\n				\n			\n			\n				\n			\n			\n				\n			\n			\n				\n			\n			\n				\n			\n			\n				\n			\n			\n				\n			\n			\n				\n			\n			\n				\n			\n			\n				\n			\n			\n				\n			\n			\n				\n			\n			\n				\n			\n			\n				\n			\n		\n \n  \n 
URL:https://valeriehoffmanphotography.com/trek/creative-photo-trek-to-luna-parc/
CATEGORIES:Trek,Workshop
ATTACH;FMTTYPE=image/jpeg:https://valeriehoffmanphotography.com/wp-content/uploads/2025/10/Featured.jpg
END:VEVENT
BEGIN:VEVENT
DTSTART;TZID=America/New_York:20260808T100000
DTEND;TZID=America/New_York:20260808T130000
DTSTAMP:20260423T171418
CREATED:20250516T145100Z
LAST-MODIFIED:20260115T231639Z
UID:12270-1786183200-1786194000@valeriehoffmanphotography.com
SUMMARY:Macro Photography at Crow's Nest Preserve
DESCRIPTION:I am super-excited to announce that I will be partnering once again with Natural Lands Trust for a macro presentation this summer.\nThankful for any opportunity to partner with those working hard to preserve our natural resources.\nHere are the details:\n“Join flower and tiny bug enthusiast Valerie Hoffman for an immersive\, three-hour macro photography workshop at Crow’s Nest Preserve. This hands-on program is perfect for anyone looking to capture the beauty of the smallest wonders in nature\, from delicate flowers to buzzing insects.\nBeginning with a presentation on the fundamentals of macro photography\, Valerie will cover essential techniques. After the introduction\, step outside and dive right in. Valerie will demonstrate\, offering tips and tricks for getting the perfect shot. You’ll have the chance to explore and practice your new skills while Valerie walks around to provide individualized assistance and answer any questions.\n\nOpen to beginners or those with some experience in photography\, this workshop is an exciting opportunity to learn new skills and gain confidence in your macro photography.”\n\nRegistration is directly through Natural Lands\, and will open shortly. Stay tuned for registration announcement. I’ll post the link here when available
URL:https://valeriehoffmanphotography.com/trek/macro-photography-at-crows-nest-preserve/
CATEGORIES:Workshop
ATTACH;FMTTYPE=image/jpeg:https://valeriehoffmanphotography.com/wp-content/uploads/2025/05/P7090043.jpg
END:VEVENT
END:VCALENDAR