BEGIN:VCALENDAR
VERSION:2.0
PRODID:-// - ECPv6.15.20//NONSGML v1.0//EN
CALSCALE:GREGORIAN
METHOD:PUBLISH
X-ORIGINAL-URL:https://valeriehoffmanphotography.com
X-WR-CALDESC:Events for 
REFRESH-INTERVAL;VALUE=DURATION:PT1H
X-Robots-Tag:noindex
X-PUBLISHED-TTL:PT1H
BEGIN:VTIMEZONE
TZID:America/New_York
BEGIN:DAYLIGHT
TZOFFSETFROM:-0500
TZOFFSETTO:-0400
TZNAME:EDT
DTSTART:20250309T070000
END:DAYLIGHT
BEGIN:STANDARD
TZOFFSETFROM:-0400
TZOFFSETTO:-0500
TZNAME:EST
DTSTART:20251102T060000
END:STANDARD
BEGIN:DAYLIGHT
TZOFFSETFROM:-0500
TZOFFSETTO:-0400
TZNAME:EDT
DTSTART:20260308T070000
END:DAYLIGHT
BEGIN:STANDARD
TZOFFSETFROM:-0400
TZOFFSETTO:-0500
TZNAME:EST
DTSTART:20261101T060000
END:STANDARD
BEGIN:DAYLIGHT
TZOFFSETFROM:-0500
TZOFFSETTO:-0400
TZNAME:EDT
DTSTART:20270314T070000
END:DAYLIGHT
BEGIN:STANDARD
TZOFFSETFROM:-0400
TZOFFSETTO:-0500
TZNAME:EST
DTSTART:20271107T060000
END:STANDARD
END:VTIMEZONE
BEGIN:VEVENT
DTSTART;TZID=America/New_York:20260509T110000
DTEND;TZID=America/New_York:20260509T140000
DTSTAMP:20260425T105809
CREATED:20260324T173033Z
LAST-MODIFIED:20260324T194253Z
UID:12879-1778324400-1778335200@valeriehoffmanphotography.com
SUMMARY:Creative Photo Trek to Luna Parc!
DESCRIPTION:Join us for a private workshop to one of the most interesting and unique places you’ll ever visit! \nDiscover Luna Parc\, a unique artistic playground tucked away on 8.5 wooded acres in northern New Jersey. Created by multimedia artist Richard “Ricky” Boscarino\, Luna Parc is filled with colorful\, quirky buildings and outdoor sculptures made from everything you can imagine—metal\, glass\, clay\, and even bowling balls and license plates. \nDuring this workshop\, you’ll get access to this 5\,000 square foot museum and home\, exploring both the unusual architecture and the fascinating interior filled with thousands of curious objects. From detailed mosaics to eclectic art pieces\, you’ll discover a treasure trove of quirky\, fascinating objects and artwork offering endless photo opportunities. There’s no shortage of interesting subjects to shoot! Whether you’re new to photography or a seasoned pro\, Luna Parc is the perfect playground to spark your creativity and capture something truly unique and fun. \nNo special gear is needed. A wide angle to midrange zoom lens is all you’ll need. You could even use your phone! \nWe will begin our workshop with a Zoom session where we will go through all the details of the workshop\, including detailed instruction on composition and exposure settings. \nAfter the workshop\, we will have a participant image review on zoom\, along with a variety of editing tips and tricks to make your images pop. \nA detailed email with details and location info will be sent prior to the event. \nPlease note: there are 11 levels (not floors) to the museum. Participants must be able to walk up and down many flights of stairs\, as well as walking on some uneven ground outdoors. As the majority of our time will be inside\, event will be held rain or shine. \nA minimum number of participants is needed to run this workshop\, as the cost to tour is a greater than normal cost.  \nNote: Number of tickets on website does not reflect actual number of tickets sold\, as many people choose to pay with Venmo or CASH app. Contact me directly if that is how you would like to pay. \nTicket price does include admission to grounds for this exclusive event. Deadline to register is May 1st!  \nIf you’d like more info\, check out this great video: https://www.youtube.com/watch?v=w4ifmCqRxWg&t=25s \n  \n\n			\n				\n			\n			\n				\n			\n			\n				\n			\n			\n				\n			\n			\n				\n			\n			\n				\n			\n			\n				\n			\n			\n				\n			\n			\n				\n			\n			\n				\n			\n			\n				\n			\n			\n				\n			\n			\n				\n			\n			\n				\n			\n			\n				\n			\n			\n				\n			\n			\n				\n			\n			\n				\n			\n			\n				\n			\n			\n				\n			\n			\n				\n			\n			\n				\n			\n			\n				\n			\n			\n				\n			\n			\n				\n			\n			\n				\n			\n			\n				\n			\n			\n				\n			\n			\n				\n			\n			\n				\n			\n			\n				\n			\n			\n				\n			\n			\n				\n			\n			\n				\n			\n			\n				\n			\n			\n				\n			\n			\n				\n			\n			\n				\n			\n			\n				\n			\n		\n\n  \n 
URL:https://valeriehoffmanphotography.com/trek/creative-photo-trek-to-luna-parc/
CATEGORIES:Trek,Workshop
ATTACH;FMTTYPE=image/jpeg:https://valeriehoffmanphotography.com/wp-content/uploads/2025/10/Featured.jpg
END:VEVENT
BEGIN:VEVENT
DTSTART;TZID=America/New_York:20260516T073000
DTEND;TZID=America/New_York:20260516T153000
DTSTAMP:20260425T105809
CREATED:20220408T202426Z
LAST-MODIFIED:20260424T195825Z
UID:7736-1778916600-1778945400@valeriehoffmanphotography.com
SUMMARY:Spring Waterfall Trek at Ricketts Glen
DESCRIPTION:Ricketts Glen State Park is one of the most scenic areas in Pennsylvania\, encompassing more than 13\,000 acres in Luzerne\, Sullivan and Columbia continues. It is also a premiere place to hike and photograph waterfalls! \nThe Falls Trail is a 3 1/2 to 7 mile trail through the Glens Natural Area\, a National Natural Landmark. The trail boasts a series of wild\, free-flowing waterfalls-the tallest of which is the 94-foot Gangoga Falls. There are 22 named waterfalls along the trail\, and countless gorgeous cascades along the stream in between. The area is an absolute treasure and a favorite destination of those who love photographing the stunning beauty waterfalls. The falls pictured here are a small sample of those along the trail-but necessarily all that will be seen on our trek. \nDue to the moderate difficulty of the trail\, and the desire to make this trek accessible to most levels of physical ability\, we will only be covering approximately half of the trail. How we proceed will depend on the level of fitness of the group as a whole. One additional falls lies near the entrance to the lower portion of the trail\, and is a must-see. \nMinimal gear is required. Workshop participants can use a variety of lenses and focal lengths – the best ranging from super-wide to mid-range telephoto. Circular polarizers\, lens hoods and a sturdy tripod along with several lens cloths\, spare batteries\, and a cable release are the primary pieces of necessary gear. Neutral density filters to slow the flow of the water are also highly recommended. \nParticipants should be able to walk at least 3-4 miles over sometimes slippery and rocky\, root-covered terrain-most likely all downhill. Our pace will be slow and easy\, as determined by the physical level of the group. Sturdy hiking boots-preferably waterproof\, must be worn. Absolutely no sandals or sneakers-both of which would be hazardous to hike in along this trail. We also recommend using at least one hiking pole to help ensure hiking stability. The trail can be steep and narrow in places. Probably not a great fit if you are afraid of heights. All that being said\, the trail is safe and manageable for all those in reasonably good health. Again\, the pace will be slow and steady. Bad knees are not a good fit for this trail. Feel free to contact me if you have any concern about physical issues. \nA detailed email with a complete list of recommended gear and suggested personal items will be sent prior to the trek\, to help participants prepare. A pre-trek Zoom class will be held on Tuesday\, May 12th to review images\, camera gear\, shooting tips\, and all details. The class will be recorded for anyone who has a conflict\, but it is highly recommended that you attend live if at all possible. \nIf traveling from a distance\,  contact me for suggestions on hotels in the area. There are many in the Wilkes Barre area\, about a half an hour away. \nCost of the workshop includes the pre-trek Zoom class\, instruction throughout the entire event\, and will also include a post-trek image review\, where participants will be able to share images and receive helpful feedback and post processing tips. Additionally\, you will also be invited to join our private Facebook group\, where workshop participants can share their images and interact with fellow photographers. These offer excellent opportunities to be in community with a fun and friendly group of photographers\, and continue your learning opportunities. \nPlease note: workshop will take place in a light rain-because that’s when waterfalls are at their finest. If severe weather is forecast\, we will reschedule.
URL:https://valeriehoffmanphotography.com/trek/spring-waterfall-trek-at-ricketts-glen/
CATEGORIES:Trek,Workshop
ATTACH;FMTTYPE=image/jpeg:https://valeriehoffmanphotography.com/wp-content/uploads/2022/04/IMG_0014-1.jpg
END:VEVENT
BEGIN:VEVENT
DTSTART;TZID=America/New_York:20260808T100000
DTEND;TZID=America/New_York:20260808T130000
DTSTAMP:20260425T105809
CREATED:20250516T145100Z
LAST-MODIFIED:20260115T231639Z
UID:12270-1786183200-1786194000@valeriehoffmanphotography.com
SUMMARY:Macro Photography at Crow's Nest Preserve
DESCRIPTION:I am super-excited to announce that I will be partnering once again with Natural Lands Trust for a macro presentation this summer.\nThankful for any opportunity to partner with those working hard to preserve our natural resources.\nHere are the details:\n“Join flower and tiny bug enthusiast Valerie Hoffman for an immersive\, three-hour macro photography workshop at Crow’s Nest Preserve. This hands-on program is perfect for anyone looking to capture the beauty of the smallest wonders in nature\, from delicate flowers to buzzing insects.\nBeginning with a presentation on the fundamentals of macro photography\, Valerie will cover essential techniques. After the introduction\, step outside and dive right in. Valerie will demonstrate\, offering tips and tricks for getting the perfect shot. You’ll have the chance to explore and practice your new skills while Valerie walks around to provide individualized assistance and answer any questions.\n\nOpen to beginners or those with some experience in photography\, this workshop is an exciting opportunity to learn new skills and gain confidence in your macro photography.”\n\nRegistration is directly through Natural Lands\, and will open shortly. Stay tuned for registration announcement. I’ll post the link here when available
URL:https://valeriehoffmanphotography.com/trek/macro-photography-at-crows-nest-preserve/
CATEGORIES:Workshop
ATTACH;FMTTYPE=image/jpeg:https://valeriehoffmanphotography.com/wp-content/uploads/2025/05/P7090043.jpg
END:VEVENT
END:VCALENDAR