BEGIN:VCALENDAR
VERSION:2.0
PRODID:-// - ECPv6.15.20//NONSGML v1.0//EN
CALSCALE:GREGORIAN
METHOD:PUBLISH
X-ORIGINAL-URL:https://valeriehoffmanphotography.com
X-WR-CALDESC:Events for 
REFRESH-INTERVAL;VALUE=DURATION:PT1H
X-Robots-Tag:noindex
X-PUBLISHED-TTL:PT1H
BEGIN:VTIMEZONE
TZID:America/New_York
BEGIN:DAYLIGHT
TZOFFSETFROM:-0500
TZOFFSETTO:-0400
TZNAME:EDT
DTSTART:20240310T070000
END:DAYLIGHT
BEGIN:STANDARD
TZOFFSETFROM:-0400
TZOFFSETTO:-0500
TZNAME:EST
DTSTART:20241103T060000
END:STANDARD
BEGIN:DAYLIGHT
TZOFFSETFROM:-0500
TZOFFSETTO:-0400
TZNAME:EDT
DTSTART:20250309T070000
END:DAYLIGHT
BEGIN:STANDARD
TZOFFSETFROM:-0400
TZOFFSETTO:-0500
TZNAME:EST
DTSTART:20251102T060000
END:STANDARD
BEGIN:DAYLIGHT
TZOFFSETFROM:-0500
TZOFFSETTO:-0400
TZNAME:EDT
DTSTART:20260308T070000
END:DAYLIGHT
BEGIN:STANDARD
TZOFFSETFROM:-0400
TZOFFSETTO:-0500
TZNAME:EST
DTSTART:20261101T060000
END:STANDARD
END:VTIMEZONE
BEGIN:VEVENT
DTSTART;TZID=America/New_York:20251010T080000
DTEND;TZID=America/New_York:20251010T110000
DTSTAMP:20260423T234157
CREATED:20250923T215652Z
LAST-MODIFIED:20250923T215652Z
UID:12694-1760083200-1760094000@valeriehoffmanphotography.com
SUMMARY:Creative Dahlia Flower Photography Photo Trek
DESCRIPTION:Join us for a Macro Photography Workshop at a beautiful dahlia farm\, where you’ll learn to capture stunning close-up images of intricate flower details. Perfect for beginners and more advanced enthusiasts\, this hands-on session will teach you techniques to reveal the vibrant colors and delicate textures of dahlias through your lens. Immerse yourself in nature’s art and enhance your photography skills in a picturesque setting. \nAs this is not a standard garden but instead a grower’s farm\, the main emphasis on this workshop will be macro and close up photography. You will need to be able to photograph your subjects from approximately 2 feet to just inches away. If you do not own a macro lens\, any lens that has a close focusing range will work. This would be an especially great place for LensBaby use. You could also use extension tubes with a midrange zoom to get similar results. The majority of the images shown here were taken on a micro 4/3s 40-150mm lens with an extension tube. A macro lens was also used for detail shots of shapes and textures of the flowers\, as well as capturing praying mantis and other insects. If you like to use a flash and diffuser\, those would also work great here. \nInstruction will be given on a pre-workshop zoom session\, to go over images\, lens and other gear choices\, composition\, exposure settings and all the details of the visit. If your camera features the option of Focus stacking or Focus bracketing\, you can learn how to use that for even greater control of focus and depth of field!. Hands-on instruction will also be given throughout the workshop. \nTo continue the learning experience\, there will be an image review via zoom after the workshop\, to review images\, and go through composition and editing tips. \nJoin us for this 3 hour immersion into color\, shapes\, textures and more! An early morning start may lead to the added bonus of dew drops on the flowers! \nThe garden is in the Greater Allentown\, PA area. Exact location will be given upon registration.
URL:https://valeriehoffmanphotography.com/trek/creative-dahlia-flower-photography-photo-trek/
CATEGORIES:Workshop
ATTACH;FMTTYPE=image/jpeg:https://valeriehoffmanphotography.com/wp-content/uploads/2025/09/Dahlia-trek-featured-1017862.jpg
END:VEVENT
BEGIN:VEVENT
DTSTART;TZID=America/New_York:20251011T080000
DTEND;TZID=America/New_York:20251011T160000
DTSTAMP:20260423T234157
CREATED:20250925T194802Z
LAST-MODIFIED:20251001T210341Z
UID:12738-1760169600-1760198400@valeriehoffmanphotography.com
SUMMARY:Waterfall Photography In the Beautiful Pocono Mountains
DESCRIPTION:***Due to lack of rain and water flow\, this event is postponed until further notice. I hate to do it\, but it would not provide a great experience for participants-which matters greatly to me.*** \nJoin us for a full day of hands-on waterfall photography in the stunning Pocono Mountains. Whether you’re just starting out or looking to sharpen your skills\, this workshop will guide you through the essentials of capturing waterfalls—from choosing the right settings to composing dynamic shots in nature. \nWe’ll hike to multiple waterfalls and spend time practicing techniques like long exposures\, motion blur\, and framing to bring out the best in every cascade. Along the way\, you’ll learn how to work with natural light\, use filters effectively\, and troubleshoot common challenges. \nThis workshop is designed to boost your confidence behind the camera and help you create striking landscape photos you’ll be proud to share. Expect practical guidance\, plenty of shooting time\, and tips you can use on any adventure. \nCome ready to shoot\, learn\, and walk away with your best waterfall images yet! \nTentative places we’ll visit: Bushkill Falls\, George C Childs State Park\, Marshalls Falls\, Raymondskill Falls\, and possibly more! \nThe workshop will not entail any long hikes\, but there will be steps and stairs to navigate at each location. Participants should be physically fit enough to carry their gear and walk 1/4 to approximately 1 mile. Contact me if there are any concerns \nPlan on meeting at the Pennsylvania Welcome Center\, 18 River Rd\, Delaware Water Gap\, PA 18327 \nFrom there people can carpool or drive separately. We will break for lunch in between stops. Participants can bring their own picnic lunch or purchase in the area. \nParticipants will receive an email after registration with pre-workshop Zoom link\, as well as details regarding how to best prepare for the workshop. \n\n			\n				\n			\n			\n				\n			\n			\n				\n			\n			\n				\n			\n			\n				\n			\n			\n				\n			\n			\n				\n			\n			\n				\n			\n			\n				\n			\n			\n				\n			\n			\n				\n			\n			\n				\n			\n			\n				\n			\n			\n				\n			\n			\n				\n			\n			\n				\n			\n			\n				\n			\n			\n				\n			\n			\n				\n			\n			\n				\n			\n			\n				\n			\n			\n				\n			\n			\n				\n			\n			\n				\n			\n			\n				\n			\n			\n				\n			\n			\n				\n			\n		\n\n 
URL:https://valeriehoffmanphotography.com/trek/waterfall-photography-in-the-beautiful-pocono-mountains/
CATEGORIES:Workshop
ATTACH;FMTTYPE=image/jpeg:https://valeriehoffmanphotography.com/wp-content/uploads/2025/09/674A3556.jpg
END:VEVENT
END:VCALENDAR