BEGIN:VCALENDAR
VERSION:2.0
PRODID:-// - ECPv6.15.20//NONSGML v1.0//EN
CALSCALE:GREGORIAN
METHOD:PUBLISH
X-ORIGINAL-URL:https://valeriehoffmanphotography.com
X-WR-CALDESC:Events for 
REFRESH-INTERVAL;VALUE=DURATION:PT1H
X-Robots-Tag:noindex
X-PUBLISHED-TTL:PT1H
BEGIN:VTIMEZONE
TZID:America/New_York
BEGIN:DAYLIGHT
TZOFFSETFROM:-0500
TZOFFSETTO:-0400
TZNAME:EDT
DTSTART:20240310T070000
END:DAYLIGHT
BEGIN:STANDARD
TZOFFSETFROM:-0400
TZOFFSETTO:-0500
TZNAME:EST
DTSTART:20241103T060000
END:STANDARD
BEGIN:DAYLIGHT
TZOFFSETFROM:-0500
TZOFFSETTO:-0400
TZNAME:EDT
DTSTART:20250309T070000
END:DAYLIGHT
BEGIN:STANDARD
TZOFFSETFROM:-0400
TZOFFSETTO:-0500
TZNAME:EST
DTSTART:20251102T060000
END:STANDARD
BEGIN:DAYLIGHT
TZOFFSETFROM:-0500
TZOFFSETTO:-0400
TZNAME:EDT
DTSTART:20260308T070000
END:DAYLIGHT
BEGIN:STANDARD
TZOFFSETFROM:-0400
TZOFFSETTO:-0500
TZNAME:EST
DTSTART:20261101T060000
END:STANDARD
END:VTIMEZONE
BEGIN:VEVENT
DTSTART;TZID=America/New_York:20251209T160000
DTEND;TZID=America/New_York:20251209T200000
DTSTAMP:20260423T203330
CREATED:20250925T103041Z
LAST-MODIFIED:20251126T015514Z
UID:11712-1765296000-1765310400@valeriehoffmanphotography.com
SUMMARY:A Longwood Christmas Photo Trek
DESCRIPTION:Longwood Gardens is spectacular in any season\, but it is transformed into a magical place during the holiday season. With more than 400\,000 twinkling lights strung on nearly 40 miles of wire\, this is a photographer’s paradise\, and it has become an annual photo trek favorite. Join us as we make amazing images worthy of creating your own holiday cards and gifts! \nWe will meet at 4pm to be set up and in place as the sun sets and the magic begins. We will continue photographing during the “Blue Hour”\, which allows for more dramatic images. We will photograph the amazing light displays outside throughout the grounds. The majority of this trek will be focused on photographing the lights outside\, as the inside is usually unbearably crowded and nearly impossible to do any decent photography. After the workshop\, participants are able to stay until the gardens close. Later in the evening\, opportunities may arise for you to grab decent hand-held images inside. \nThis workshop is for beginners and more advanced photo enthusiasts. No special gear is required beyond a DSLR or mirrorless camera\, tripod and cable release to trip the shutter. You could also use the self timer if you do not have a cable release. A Star filter and kaleidoscope filter would be helpful for creative effects of the lights (not necessary). A midrange zoom lens\, in the range of 18-200 or longer\, would be the best choice. Fast Lenses\, with apertures such as f/2.8 or 1.8 will be a huge benefit in the conservatory (if you choose to go inside)\, and to create those beautiful Bokeh light effects. \nA pre-trek class will be held via Zoom on Wednesday December 3rd to go over all the details of the trek. Instruction will be given on shooting in full manual exposure\, how to properly meter and photograph in low light-both outdoors and indoors\, lens choice and why it matters; creative composition; HDR or High Dynamic Range Photography; and more! A detailed email will be sent prior to the Zoom session detailing everything you need to get ready. A post-trek image review also via Zoom is included in the registration cost. \nThis event is being scheduled on a week night to avoid the large weekend crowds. You should plan on arriving at least one hour prior to the workshop start time to allow for traffic and parking. Please plan your schedules accordingly. \nAdmission to Longwood is NOT included\, as most attendees either are-or choose to become members of the gardens. Upon registration you should immediately go online and reserve a timed ticket. It is recommended that you get your ticket for at least an hour prior to the trek. Longwood Gardens members still need a timed ticket(free). Arrive earlier and explore the conservatory on your own. \nA minimum number of participants is needed to run this event. The number of tickets shown on website does not necessarily reflect the number still available\, as some participants choose to pay using Venmo or Cash app as opposed to PayPal. \nIn case of hazardous weather\, the trek will take place on Thursday December 12th\, 2024 (or mutually agreed upon date. The workshop will take place in light rain or snow\, as these are fantastic conditions for photographing holiday lights. \nDO NOT WAIT TO GET YOUR TIMED TICKETS!!! Sell out at Longwood is likely! You should reserve a timed ticket for 3:30pm or sooner! Tickets are sold out beyond 3:30 at this point! Get them as soon as you register for this event!!! \nPlease note: the images below were taken over several different years and visits to Longwood. These are all past displays and do not represent what the current displays will look like. Images may be updated after the official opening of the Christmas displays. \nLongwood Gardens is located at 1001 Longwood Rd\, Kennet Square\, PA
URL:https://valeriehoffmanphotography.com/trek/longwood-christmas-photo-trek-3/
CATEGORIES:Trek
ATTACH;FMTTYPE=image/jpeg:https://valeriehoffmanphotography.com/wp-content/uploads/2023/11/674A3911-2.jpg
END:VEVENT
END:VCALENDAR